BEGIN:VCALENDAR
PRODID:-//eluceo/ical//2.0/EN
VERSION:2.0
CALSCALE:GREGORIAN
BEGIN:VEVENT
UID:cd62d5a8c4a5c88fc217a91dbec45b72
DTSTAMP:20260423T163005Z
SUMMARY:Meeting Point CzechTrade na MSV v Brně 2023
DESCRIPTION:Název akce: Meeting Point CzechTrade na MSV v Brně 2023\nURL:
  https://www.spcr.cz/meeting-point-czechtrade-na-msv-v-brne-2023\nPopis: \
 n\nDovolujeme si Vás pozvat na konzultace pořádané agenturou CzechTrad
 e kde můžete konzultovat  NA EXPORTNÍ TÉMATA SE 24 ŘEDITELI ZAHRAN
 IČNÍCH KANCELÁŘÍ CZECHTRADE \n\nJak najdete vhodného obchodního 
 partnera v zahraničí?\nJakou zvolit formu při vstupu na trh?\nJaké jso
 u konkrétní příležitosti ve vašem oboru?\n\nPŘÍMO DO BRNA NA MEZI
 NÁRODNÍ STROJÍRENSKÝ VELETRH PŘIJEDOU ŘEDITELÉ ZAHRANIČNÍCH KANCE
 LÁŘÍ CZECHTRADE A POMOHOU VÁM ŘEŠIT VAŠE EXPORTNÍ AKTIVITY.\nŘed
 itelé zahraničních kanceláří CzechTrade dlouhodobě působí v terit
 oriích\, znají aktuální dění na tamních trzích\, exportní příle
 žitosti\, obchodní podmínky\, zvyklosti\, jazyk i kontakty. Vám\, expo
 rtérům pomáhají otevírat více dveří\, než by přineslo individuá
 lní snažení v neznámém prostředí. Pomohou s výběrem vhodných ter
 itorií pro váš výrobek nebo službu\, s nalezením obchodních partner
 ů\, zhodnotí reálné šance na úspěch a doporučí\, jak nejlépe pos
 tupovat.Zda je právě váš obor činnosti perspektivní pro vybraný zah
 raniční trh\, můžete snadno zjistit na https://www.czechtrade.cz/zahr
 anicni-kancelare. V profilu každé země jsou uvedené perspektivní expo
 rtní obory.Konzultace poskytnou také odborníci z Klientského centra p
 ro export\, které je společnou aktivitou Ministerstva průmyslu a obchod
 u\, Ministerstva zahraničních věcí a agentury CzechTrade. Další konz
 ultace firmám poskytnou specialistky Design Centra CzechTrade\, které j
 e národní platformou státní podpory designu.\nORGANIZAČNÍ INFORMACE\
 n\n Přihlásit se můžete až na pět zemí.\nKonzultace jsou individu
 ální a délka jedné je 30 minut.\nÚčast na akci je zdarma\, avšak j
 e nutná předchozí rezervace.\nPo odeslání přihlášky vás bude ko
 ntaktovat exportní konzultant CzechTrade a upřesní konkrétní termí
 ny vašich jednání.\nNapiště nám pokud potřebujete vstupenku na Mezi
 národní strojírenský veletrh v Brně.\nV souladu s právní úpravou o
  ochraně osobních údajů si vás dovolujeme upozornit\, že z akce budo
 u pořizovány fotografie. Ty použijeme na webu agentury\, v profilech 
 CzechTrade na sociálních sítích\, v médiích v reportážích z akce
  apod. Snímky budou mít ilustrační charakter\, bez identifikace zachy
 cených osob. V případě\, že si nepřejete být fotografováni\, pros
 íme\, kontaktujte nás na marketing@czechtrade.cz. \n\nDalší informac
 e a možnost registrace.\n
URL:https://www.spcr.cz/meeting-point-czechtrade-na-msv-v-brne-2023
DTSTART:20231012T000000
DTEND:20231012T235959
LOCATION:
END:VEVENT
END:VCALENDAR
