BEGIN:VCALENDAR
PRODID:-//eluceo/ical//2.0/EN
VERSION:2.0
CALSCALE:GREGORIAN
BEGIN:VEVENT
UID:55c4dd82d722f6b3f401028c0ef491e2
DTSTAMP:20260423T130206Z
SUMMARY:Expanze na americký trh – seminář a B2G konzultace se zástupc
 i 10 amerických států
DESCRIPTION:Název akce: Expanze na americký trh – seminář a B2G konzu
 ltace se zástupci 10 amerických států\nURL: https://www.spcr.cz/expanz
 e-na-americky-trh-seminar-b2g-konzultace-se-zastupci-10-americkych-statu\n
 Popis: \n\nDovolujeme si Vás pozvat na společnou akci Velvyslanectví S
 pojených států amerických v Praze\, JIC a CzechTrade.\nJste výrobní
 \, strojírenská nebo technologická firma a zajímáte se o expanzi a mo
 žné investice do USA? Zveme vás na seminář a následné B2G jednání
  se zástupci vybraných amerických států.\n\n12:00 – 14:00 seminář
 \, Česká národní expozice\, pavilon P\, stánek č. 009\n14:20 – 17:
 40 B2G jednání (P4)\n\n \nNa tuto akci navazuje následující den 11.
  října seminář a B2G jednání určené pro firmy z oblasti IT. Semin
 ář organizuje JIC.    \nS ročním HDP ve výši 22 bilionů dolarů
  a více než 330 miliony obyvatel jsou Spojené státy největším spot
 řebitelským trhem na světě. Nabízí bezkonkurenční rozmanitost\, vz
 kvétající kulturu inovací a vysoce kvalifikovanou sílu. SelectUSA je 
 federální program\, který pod hlavičkou amerického ministerstva obcho
 du podporuje zahraniční firmy se vstupem na americký trh. Velvyslanectv
 í USA v Praze poskytuje v rámci programu SelectUSA pro české firmy m
 nožství služeb: zejména informační podporu\, individuální konzulta
 ce a množství akcí zaměřených na expanzi do USA\, včetně organizac
 e každoroční české delegace na SelectUSA Summit v Washingtonu DC.\nA
 kce nabídne seminář zaměřený na expanzi a možné investice v USA n
 ásledované B2G termínovaná jednání českých firem se zástupci amer
 ických států/organizací pro ekonomický rozvoj EDOs. Pro exportní ko
 nzultace bude na místě k dispozici také ředitel zahraniční kancelá
 ře CzechTrade USA.\n \n12:00 – 14:00 SEMINÁŘ            
     \n\nÚvodní slovo\, H.E. Ambassador Bijan Sabet\nÚvodní slovo\,
  Radomil Doležal\, generální ředitel CzechTrade\nPodpora exportérů n
 a americkém trhu\, Pavel Eichner\, CzechTrade USA\nSelectUSA Program\, Ri
 chard Pales\, US Embassy Prague\nCouncil of American States in Europe\, An
 tje Abshoff\, President\nVízová problematika v USA\, Consular Department
 \, US. Embassy\, Prague\nPrávní náležitosti při expanzi do USA\, Luk
 áš Výmola\, Counsel\, Dentons\nBankovnictví a založení účtu v USA\
 , CitiBank\nVýběr lokality v USA\, Pavel Sovička\, Managing Director\, 
 Panattoni\nSuccess story úspěšných českých expanzí do USA\n\n14:20 
 – 17:40 B2G JEDNÁNÍ SE ZÁSTUPCI AMERICKÝCH STÁTŮ:\n\nGeorgia Depar
 tment of Economic Development: Sergio Domingues\, Hannah Berbner\nPennsylv
 ania Department of Community & Economic Development: David Moock\, Karolin
 a Kaptur\nAlabama Department of Commerce: Christoph Doerr\nIowa Economic D
 evelopment Authority: Heike Zoellner\nIndiana Economic Development Corpora
 tion: Jan Wiedermann\nMississippi Development Authority: Raidan Al-Eryani\
 nTennessee Department of Economic and Community Development: Steffen Bayer
 \nVirginia Economic Development Partnership: Antje Abschoff\nWisconsin Eco
 nomic Development Corporation: Stefan Peikert\nJobs Ohio Europe Office: C
 harlote Voss\n\nORGANIZAČNÍ INFORMACE\n\nPočet jednání není omezený
 .\nKonzultace jsou individuální a délka jedné je 20 minut.\nNapiště 
 nám pokud potřebujete vstupenku na Mezinárodní strojírenský veletrh 
 v Brně.\nKomunikační a prezentační jazyk je angličtina.\nÚčast na 
 akci je zdarma\, je však nutná předchozí rezervace.\nPo odeslání p
 řihlášky vás budeme kontaktovat pro upřesnění termínu vašich jed
 nání.\n\nPODROBNOSTI A MOŽNOST PŘIHLÁŠENÍ NA AKCI\n
URL:https://www.spcr.cz/expanze-na-americky-trh-seminar-b2g-konzultace-se-z
 astupci-10-americkych-statu
DTSTART:20231010T120000
DTEND:20231010T180000
LOCATION:
END:VEVENT
END:VCALENDAR
