BEGIN:VCALENDAR
PRODID:-//eluceo/ical//2.0/EN
VERSION:2.0
CALSCALE:GREGORIAN
BEGIN:VEVENT
UID:5944f6a13c08dd706ca9199957d31509
DTSTAMP:20260423T125523Z
SUMMARY:ROADSHOW - Jak uspět na zahraničních trzích
DESCRIPTION:Název akce: ROADSHOW - Jak uspět na zahraničních trzích\nU
 RL: https://www.spcr.cz/roadshow-jak-uspet-na-zahranicnich-trzich\nPopis: 
 \n\nDovolujeme si Vás pozvat na on-line seminář pořádaný agenturou C
 zechTrade. \nNa semináři se dozvite\, jak si vybrat vhodný exportní t
 rh\, způsob expanze\, zahraniční veletrh\, jak se připravit na to\, ab
 y vaše expanze do zahraničí byla úspěšná. Budete mít možnost vyu
 žít i individuálních konzultací s odborníky na export.\nProgram ROAD
 SHOW (13.00 – 17.00 hodin):1. Služby CzechTrade pro exportéry (13.00
  - 13.45 hodin)\n\nIndividuální služby dle exportních potřeb každé 
 firmy a možnosti účasti na veletrzích\, obchodních misích\, sourcing
  day apod.\nNovinky pro exportéry – Exportní inkubátory\, služba KOM
 PAS\, Digitální marketing\, Import pro export\, Exportní aliance\nDesig
 n Centrum CzechTrade – podpora českých firem v oblasti průmyslovéh
 o designu\nOtázky a odpovědi\n\n2. Praktické informace a tipy pro spr
 ávnou volbu exportních trhů (13.45 - 14.45 hodin)\n\nOslovení zahrani
 čního partnera\, příprava firmy pro vstup na exportní trhy\, marketin
 gová příprava a příprava pro obchodní jednání\, náklady při vstu
 pu na zahraniční trhy\, nejčastější chyby při exportu\nExportní p
 říležitosti pro české firmy v Rakousku\nOtázky a odpovědi\n\n3. I
 NDIVIDUÁLNÍ KONZULTACE s přednášejícími (Od 14.45 hodin)\nPODROBN
 OSTI A MOŽNOST PŘIHLÁŠENÍ NA AKCI.\n
URL:https://www.spcr.cz/roadshow-jak-uspet-na-zahranicnich-trzich
DTSTART:20230921T130000
DTEND:20230921T170000
LOCATION:
END:VEVENT
END:VCALENDAR
