BEGIN:VCALENDAR
PRODID:-//eluceo/ical//2.0/EN
VERSION:2.0
CALSCALE:GREGORIAN
BEGIN:VEVENT
UID:e79e0953157ce3e0abdb7f4dce7459a8
DTSTAMP:20260423T163005Z
SUMMARY:14. mezinárodní veletrh nanotechnologie v Teheránu
DESCRIPTION:Název akce: 14. mezinárodní veletrh nanotechnologie v Teher
 ánu\nURL: https://www.spcr.cz/14-mezinarodni-veletrh-nanotechnologie-v-te
 heranu\nPopis: \n\nPlease kindly find information regarding the 14th Inter
 national Nanotechnology Exhibition that would be held on 4th – 7th Novem
 ber 2023  - Iran / Tehran.\nFor information please refer to the following
  website:\nhttps://nanoexhibition.ir/\n \n
URL:https://www.spcr.cz/14-mezinarodni-veletrh-nanotechnologie-v-teheranu
DTSTART:20231104T080000
DTEND:20231107T170000
LOCATION:
END:VEVENT
END:VCALENDAR
