BEGIN:VCALENDAR
PRODID:-//eluceo/ical//2.0/EN
VERSION:2.0
CALSCALE:GREGORIAN
BEGIN:VEVENT
UID:30479ca897cbaa214182ddcd73f587f4
DTSTAMP:20260423T130819Z
SUMMARY:Seminář o obchodních příležitostech v Dánsku\, Finsku\, Nors
 ku a Švédsku
DESCRIPTION:Název akce: Seminář o obchodních příležitostech v Dánsk
 u\, Finsku\, Norsku a Švédsku\nURL: https://www.spcr.cz/seminar-o-obchod
 nich-prilezitostech-v-dansku-finsku-norsku-svedsku\nPopis: \n\nOdbor ekono
 micko-vědecké diplomacie Ministerstva zahraničních věcí si Vás dovo
 luje pozvat na seminář o aktuálních obchodních a podnikatelských př
 íležitostech pro české firmy v Dánsku\, Finsku\, Norsku a Švédsku\,
  který se uskuteční v úterý 26. 9. 2023 od 10:00 v Černínském pal
 áci v Praze. \nNa semináři vystoupí s informacemi o finském a švéd
 ském trhu Daniel Horák\, ekonomický diplomat Velvyslanectví ČR v Hels
 inkách a Martin Bašta\, ekonomický diplomat Velvyslanectví ČR ve Stoc
 kholmu. Příležitosti na dánském a norském trhu představí online Ot
 o Weniger\, ekonomický diplomat Velvyslanectví ČR v Kodani a Ondřej Fi
 ala\, ekonomický diplomat Velvyslanectví ČR v Oslu. \nÚčastníkům s
 emináře budou prezentovat aktuální obchodní a investiční příleži
 tosti na jednotlivých trzích\, ale také informace o kultuře obchodníh
 o jednání\, specifikách trhů a stavu ekonomiky v každé z těchto zem
 í. \nNa seminář do Prahy se registrujte na emailu: AkceOED@mzv.cz.\n
URL:https://www.spcr.cz/seminar-o-obchodnich-prilezitostech-v-dansku-finsku
 -norsku-svedsku
DTSTART:20230926T000000
DTEND:20230926T235959
LOCATION:
END:VEVENT
END:VCALENDAR
