BEGIN:VCALENDAR
PRODID:-//eluceo/ical//2.0/EN
VERSION:2.0
CALSCALE:GREGORIAN
BEGIN:VEVENT
UID:abf3b0ea86732fda4d23e91c7918aeee
DTSTAMP:20260423T192754Z
SUMMARY:Online konference EHSV: "Leading the Way: A Competitiveness Agenda 
 for a Stronger Europe"
DESCRIPTION:Název akce: Online konference EHSV: "Leading the Way: A Compet
 itiveness Agenda for a Stronger Europe"\nURL: https://www.spcr.cz/online-k
 onference-ehsv-leading-way-competitiveness-agenda-stronger-europe\nPopis: 
 \n\nWelcome to participate in the online Employers' Group flagship event:
  "Leading the Way: A Competitiveness Agenda for a Stronger Europe"\nAt a 
 time of increasing geopolitical rivalry and the steady erosion of the mult
 ilateral rules-based trading system\, EU’s competitiveness has taken cen
 tre stage in the EU agenda.\nIt must be recognised that the success of the
  EU can only be built on the foundation of thriving businesses. The EU mus
 t therefore step up its efforts to create a favourable environment for bus
 inesses to operate and thrive\, ultimately creating jobs\, growth and pros
 perity.\nAgainst this backdrop\, and in view of the next EU institutional 
 cycle 2024-2029\, the Employers' Group flagship event entitled "Leading th
 e Way: A Competitiveness Agenda for a Stronger Europe" aims to raise aware
 ness and stimulate discussion on the need for a comprehensive competitiven
 ess agenda for the EU by providing a forum for dialogue between EU busines
 ses and policymakers.\nEvent agenda download here. \nLink for registratio
 n here. \n
URL:https://www.spcr.cz/online-konference-ehsv-leading-way-competitiveness-
 agenda-stronger-europe
DTSTART:20230906T150000
DTEND:20230906T182000
LOCATION:
END:VEVENT
END:VCALENDAR
