BEGIN:VCALENDAR
PRODID:-//eluceo/ical//2.0/EN
VERSION:2.0
CALSCALE:GREGORIAN
BEGIN:VEVENT
UID:88a63e9051a9d9fc752b9ee5e4a8c3eb
DTSTAMP:20260423T124932Z
SUMMARY:Bezpečnost cestování
DESCRIPTION:Název akce: Bezpečnost cestování\nURL: https://www.spcr.cz/
 bezpecnost-cestovani\nPopis: \n\nSvaz průmyslu a dopravy České republik
 y vás srdečně zve na seminář o bezpečnosti cestování – Praktick
 é rady pro firemní zaměstnance i členy rodiny\, kteří se chystají n
 a cesty.\nCÍLOVÁ SKUPINA\n\nOsoby cestující do zahraničí (pracovně/
 soukromě)\,\nOrganizace a firmy intenzivně spolupracující se zahranič
 ními subjekty\,\nBezpečnostní\, obchodní\, výkonný a operativní man
 agement.\n\n CO SE NAUČÍTE – 2 OBSAHOVÉ LINIE\n\nJak snížit rizika
  související s (mezinárodním) cestováním\,\nNastavení firemních p
 rocesů:\n\nSoubor praktických a procedurálních opatření ke zvýšen
 í bezpečnosti personálu\,\nVyjasnění odpovědnosti firmy v této obl
 asti\,\nRedukci dopadů v případě incidentu.\n\n\n\n TEMATICKÝ OBSAH
 \n\nZvýšení povědomí o rizicích spojených s cestováním do zahran
 ičí\nNežádoucí cizí pozornost – kdo za ní stojí\, jaké cíle sl
 eduje. Kdo je za nežádoucí pozorností vůči nám\, jaké činnosti pr
 ovádí a s jakým cílem.\n\nTechnologie: Mobilní zařízení – dobr
 ý sluha\, ale nebezpečný zrádce\,\nNová rizika odposlechů a sledová
 ní\,\nNásilné akce: krádeže\, kompromitace\, nátlak\, vydírání\, 
 úplatky\,\nFiremní špionáž\, osobní údaje a soukromí\,\nÚrazy a 
 úmrtí v zahraničí.\n\n\n\nČASOVÝ HARMONOGRAM\n  9:30 – 10:00 pre
 zence účastníků10:00 – 11:30 zahájení\, seminář 1. část11:30 
 – 12:00 pauza\, občerstvení12:00 – 13:30 seminář 2. část13:30 
 – 13:50 pauza\, občerstvení13:50 – 15:30 seminář 3. část\, dotaz
 y\, diskuze (konec dle délky diskuze)\nPŘEDNÁŠEJÍCÍIng. Oldřich Nov
 ák\n\nRisk Manager a Travel Security Advisor pro nadnárodní společnost
 i a náročnou klientelu.\n28 let v aktivní vojenské službě\,\nOd roku
  2001 spojen s protiteroristickými aktivitami\,\nTříleté zařazení v 
 NATO\,\n5 misí v Afghánistánu v letech 2002–2014\,\nOceněn:\n\nZásl
 užný kříž - Ministerstvo Obrany ČR 2019\,\nThe Commendation Medal - 
 US Department of Defense\, 2009.\n\n\n\nCena semináře je 3.000 Kč vč. 
 DPH. Pro členy SP ČR je cena 2.500 Kč vč. DPH.\nRegistrujte se pod tí
 mto odkazem do 12. 10. 2023\nV případě dotazů kontaktujte regionální
  manažerku Mgr. Michaelu Válkovou\, email: mvalkova@spcr.cz\, tel: 732 4
 56 823.\n
URL:https://www.spcr.cz/bezpecnost-cestovani
DTSTART:20231019T100000
DTEND:20231019T150000
LOCATION:
END:VEVENT
END:VCALENDAR
