BEGIN:VCALENDAR
PRODID:-//eluceo/ical//2.0/EN
VERSION:2.0
CALSCALE:GREGORIAN
BEGIN:VEVENT
UID:07b7c71a468fec285a328449cfc9701c
DTSTAMP:20260423T145939Z
SUMMARY:Vysílání pracovníků do EU
DESCRIPTION:Název akce: Vysílání pracovníků do EU\nURL: https://www.s
 pcr.cz/vysilani-pracovniku-do-eu\nPopis: \n\nSvaz průmyslu a dopravy ČR 
 ve spolupráci s Enterprise Europe Network si Vás v rámci projektu „
 Podpora národního\, odvětvového a regionálního sociálního dialogu 
 v ČR“ dovoluje pozvat na diskusní fórum. \nÚčast je možná osobně
  nebo online přes aplikaci Zoom.PROGRAMHlavním cílem akce je diskuse se
  zaměstnavateli o problematice vysílání pracovníků do zahraničí v
 četně informací o schválené revizi směrnice EU o vysílání pracovn
 íků. Diskutovány budou i novinky a změny a některé rozsudky Soudníh
 o dvora EU.\nČASOVÝ HARMONOGRAM08:45 – 09:00 Registrace účastníků0
 9:00 – 10:00 1. Blok + diskuse10:00 – 10:15 Přestávka10:15 – 11:30
  2.Blok + diskuze11:30 ZávěrLEKTORKARNDr. Jitka Ryšavá – vedoucí od
 dělení Enterprise Europe Network\, Centrum pro regionální rozvoj Česk
 é republikyREGISTRACENa setkání se prosím přihlaste ZDE\, nejpozději
  do 13. září 2023.V případě dotazů se prosím obraťte na organizá
 tora akce\, Kateřinu Budínkovou (tel: 733 643 513 nebo na e-mail: kbudin
 kova@spcr.cz).\n
URL:https://www.spcr.cz/vysilani-pracovniku-do-eu
DTSTART:20230921T090000
DTEND:20230921T113000
LOCATION:
END:VEVENT
END:VCALENDAR
