BEGIN:VCALENDAR
PRODID:-//eluceo/ical//2.0/EN
VERSION:2.0
CALSCALE:GREGORIAN
BEGIN:VEVENT
UID:684d401e5c0ea75a7a2d4b1c5cb5025b
DTSTAMP:20260423T125537Z
SUMMARY:Konference k investicím v Severní Makedonii
DESCRIPTION:Název akce: Konference k investicím v Severní Makedonii\nURL
 : https://www.spcr.cz/konference-k-investicim-v-severni-makedonii\nPopis: 
 \n\nInvestice Severní Makedonie\nCílem konference je představit investi
 ční příležitosti v Severní Makedonii v následujících oborech: ene
 rgetika\, automobilový průmysl a průmyslová výroba\, zemědělství\,
  potravinářství a vinařství\, nemovitosti a stavebnictví. Konference
  dále představí Severní Makedonii jako atraktivní destinaci pro pří
 stup na společný regionální trh zemí západního Balkánu a poskytne 
 příležitosti pro navázání partnerství mezi českými a makedonským
 i firmami.\nHotel Fitzgerald Prague\, 21 – 22 Září 2023\n
URL:https://www.spcr.cz/konference-k-investicim-v-severni-makedonii
DTSTART:20230921T080000
DTEND:20230922T170000
LOCATION:
END:VEVENT
END:VCALENDAR
