BEGIN:VCALENDAR
PRODID:-//eluceo/ical//2.0/EN
VERSION:2.0
CALSCALE:GREGORIAN
BEGIN:VEVENT
UID:86191a77a6d81d28ef1d063204134e87
DTSTAMP:20260423T173611Z
SUMMARY:Podnikatelská mise do Kazachstánu a Uzbekistánu
DESCRIPTION:Název akce: Podnikatelská mise do Kazachstánu a Uzbekistánu
 \nURL: https://www.spcr.cz/podnikatelska-mise-do-kazachstanu-uzbekistanu-0
 \nPopis: \n\nDovolujeme si Vás pozvat na podnikatelskou misi\, která bud
 e doprovázet ministra zemědělství Marka Výborného do Kazachstánu a
  Uzbekistánu ve dnech 8.-12. října 2023.Harmonogram cesty bude zahrnova
 t čtyři zastávky\, a to v Astaně\, Akmolinské oblasti\, Taškentu 
 a Samarkandu. V Astaně a Taškentu budou uspořádána business fó
 ra za účasti zástupců místního podnikatelského prostředí. Hlavn
 í oblastí zájmu této cesty jsou sektory zemědělství: technologie
  a vstupy pro rostlinnou a živočišnou výrobu a potravinářství.V př
 ípadě zájmu o účast na misi Vás žádáme o vyplnění formuláře 
 (předběžný zájem) v odkazu: předběžný zájem. Vzhledem k jazyk
 ovému zaměření obou zemí upozorňujeme na potřebu ovládaní rusk
 ého jazyka (ideálně kombinace ruského a anglického jazyka).Závazná
  registrace bude otevřena koncem srpna (spolu s cenou účasti a všemi
  informacemi\, které v této době ladíme s Ministerstvem zemědělstv
 í ČR a oběma ZÚ).Kapacita mise je omezená a Ministerstvo zemědělstv
 í ČR a Svaz průmyslu a dopravy ČR si vyhrazují právo na výběr při
 hlášených členů mise dle volných kapacit či adekvátního zaměřen
 í této konkrétní mise.V případě jakýchkoli nejasností či dotaz
 ů se na nás neváhejte obrátit\, a to na e-mailové adrese mnatafalusi
 @spcr.cz a ani.hakobjan@mze.cz. \n\nTěšíme se na setkání s Vámi!\
 n
URL:https://www.spcr.cz/podnikatelska-mise-do-kazachstanu-uzbekistanu-0
DTSTART:20231008T000000
DTEND:20231012T235959
LOCATION:
END:VEVENT
END:VCALENDAR
