BEGIN:VCALENDAR
PRODID:-//eluceo/ical//2.0/EN
VERSION:2.0
CALSCALE:GREGORIAN
BEGIN:VEVENT
UID:a5113eb435aeb496c19fae069f2c1e86
DTSTAMP:20260423T162819Z
SUMMARY:Kolektivní vyjednávání v praxi 
DESCRIPTION:Název akce: Kolektivní vyjednávání v praxi \nURL: https://
 www.spcr.cz/kolektivni-vyjednavani-v-praxi\nPopis: \n\nZveme vás na disku
 zní seminář jehož cílem je poskytnout praktické informace a doporuč
 ení\, jak pokud možno nejlépe nastavit komunikaci a spolupráci s odbor
 y při kolektivním vyjednávání. Je to oblast\, která mnohdy zbytečn
 ě ztěžuje vnitrofiremní soužití a soustředění se na klíčové fi
 remní otázky\, proto bychom rádi personalistům a vedoucím pracovník
 ům nabídli možnost získání praktických informací a inspirace\, vč
 etně možnosti vzájemného sdílení zkušeností a doporučení. To vš
 e pod odborným dohledem a výkladem expertky na pracovní právo se speci
 alizací na kolektivní vyjednávání paní JUDr. Nataši Randlové\, Ph.
 D.ODBORNÉ VEDENÍ semináře:JUDr. Nataša RANDLOVÁ\, Ph.D.\, Randl Part
 ners\, advokátní kancelář se specializací na pracovní právo\, exper
 tka na kolektivní vyjednávání s bohatými zkušenostmi z prostředí p
 růmyslově zaměřených firem. Více na www.randls.com\nHLAVNÍ OKRUHY S
 EMINÁŘE:Jak nejlépe nastavit vztah s odborovou organizací – jaké m
 á zaměstnavatel práva a povinnosti/ okruh interakcíKolektivní vyjedn
 ávání - jak je vést\, aby zaměstnavatel získal očekávaný výslede
 kCo když u mne působí více odborových organizací – jak nejlépe po
 stupovat A co dělat když hrozí stávka + možnost dotazů a sdílení z
 kušeností z široké oblasti kolektivního vyjednávání\nSPECIÁLNÍ H
 OSTÉ: Ing. Marek SMOLKA\, MBA\, generální ředitel a místopředseda p
 ředstavenstva DT - Výhybkárna a strojírna a.s.Ing. Roman ŠLÉZAR\, MB
 A\, obchodní ředitel a předseda představenstva DT - Výhybkárna a str
 ojírna a.s.Oba hosté se podělí se o aktuální zkušenosti z náročn
 ého\, ale úspěšného nastavení procesu kolektivního vyjednávání A
 KCE JE URČENA ZEJMÉNA PRO:Pracovníky\, kteří ve své agendě mají ko
 munikaci a vyjednávání s odborovými organizacemi (personalisté a vedo
 ucí pracovníci)\nÚČASTNICKÝ POPLATEK (cena zahrnuje odborné a organi
 zační zajištění\, materiály a občerstvení):2000 Kč bez DPH 1500 K
 č bez DPH pro členy Svazu průmyslu a dopravy ČR\nPOTVRZENÍ ÚČASTI:S
 vou účast můžete potvrdit REGISTRACÍ na odkaze: https://regform.spcr.
 cz/cs/kolektivni-vyjednavani-v-praxi-64/register\nDOTAZY a NÁMĚTY\, KONT
 AKT NA ORGANIZÁTORA:Richard KOUBEK\, regionální manažer SPČR pro Olom
 oucký a Pardubický krajE: rkoubek@spcr.cz\, M: 733 643 511.\n
URL:https://www.spcr.cz/kolektivni-vyjednavani-v-praxi
DTSTART:20230919T100000
DTEND:20230919T143000
LOCATION:
END:VEVENT
END:VCALENDAR
