BEGIN:VCALENDAR
PRODID:-//eluceo/ical//2.0/EN
VERSION:2.0
CALSCALE:GREGORIAN
BEGIN:VEVENT
UID:a5d546c50a59b0af81d3a6c8a204a2f1
DTSTAMP:20260423T125537Z
SUMMARY:Kolektivní vyjednávání z pohledu zaměstnavatelů
DESCRIPTION:Název akce: Kolektivní vyjednávání z pohledu zaměstnavate
 lů\nURL: https://www.spcr.cz/kolektivni-vyjednavani-z-pohledu-zamestnavat
 elu\nPopis: \n\nZveme vás na V. ročník konference: Kolektivní vyjedná
 vání z pohledu zaměstnavatelů\, vedení sociálního dialogu a jeho bu
 doucnost z pohledu právních norem EU. Svaz průmyslu a dopravy ČR uděl
 il akci záštitu.Seznámíte se s praktickým řešením i postupy v prů
 běhu kolektivního vyjednávání a získáte prostor pro vzájemnou vým
 ěnu zkušeností. Prostor bude i pro výměnu zkušeností při každoden
 ním sociálním dialogu se zástupci zaměstnanců.Dozvíte se\, jak post
 upovat při sporech při jednání o uzavření kolektivní smlouvy a jak 
 při průběžném jednání s odborovými organizacemi. Budete upozorněn
 i na časté chyby zaměstnavatelů a dozvíte se\, jak se jim vyvarovat.K
 onference je určena těm\, kteří se podílí na kolektivním vyjednáv
 ání a kteří mají ve své kompetenci komunikaci – vedou sociální d
 ialog s odborovou organizací\, zejména:\n\npersonalistům a HR managemen
 tu\,\nvedoucím zaměstnancům\,\nprávníkům\,\npodnikatelům\, jednatel
 ům a členům představenstva.\n\nÚčast doporučujeme zejména zástupc
 ům komerčního sektoru\, dále zástupcům veřejné správy a samosprá
 vy.Detailní informace a program konference najdete ZDE.Pro členy SP ČR 
 platí sleva ve výši 25% ze základní ceny konference bez DPH (tj. 25 %
  z 5 990 Kč bez DPH = 4 490 Kč bez DPH/5 433 Kč včetně 21 % DPH). Pro
  více informací\, jak slevu získat pište na e-mail: tsebestova@spcr.cz
 .\n
URL:https://www.spcr.cz/kolektivni-vyjednavani-z-pohledu-zamestnavatelu
DTSTART:20231017T090000
DTEND:20231017T170000
LOCATION:
END:VEVENT
END:VCALENDAR
