BEGIN:VCALENDAR
PRODID:-//eluceo/ical//2.0/EN
VERSION:2.0
CALSCALE:GREGORIAN
BEGIN:VEVENT
UID:4397479ea7acd67a90608eedf8f711ac
DTSTAMP:20260423T163201Z
SUMMARY:EU-Botswana Business Forum
DESCRIPTION:Název akce: EU-Botswana Business Forum\nURL: https://www.spcr.
 cz/eu-botswana-business-forum\nPopis: \n\nDelegace Evropské unie v Botswa
 ně a SADC ve spolupráci se společností Botswanským centrem pro inves
 tice a obchod (BITC) si Vás dovoluje pozvat na první podnikatelské fór
 um EU-Botswana (EBBF)\, které se bude konat dne 11. a 12. října 2023 p
 od názvem: “EU-Botswana: Connecting Goods\, People and Services for a
 “EU-Botswana: Connecting Goods\, People and Services for aSustainable Fu
 ture”.\nSlavnostní zahájení se koná 11. října 2023 v 10:00 hod. v 
 budově Fairgrounds Holdings v Gaborone.\nAkce bude probíhat souběžně
  s globálním Expo Botswana\, kterou pořádá BITC od 11. do 14. říjn
 a 2023 a bude zahájena ve stejnou dobu.\nvíce na www.globalexpo.co.bw\,
  v příloze a programu\n \n \n
URL:https://www.spcr.cz/eu-botswana-business-forum
DTSTART:20231011T000000
DTEND:20231012T235959
LOCATION:
END:VEVENT
END:VCALENDAR
