BEGIN:VCALENDAR
PRODID:-//eluceo/ical//2.0/EN
VERSION:2.0
CALSCALE:GREGORIAN
BEGIN:VEVENT
UID:902d5877b9728f8276d59afa1c70cba1
DTSTAMP:20260423T150245Z
SUMMARY:134th Canton Fair
DESCRIPTION:Název akce: 134th Canton Fair\nURL: https://www.spcr.cz/134th-
 canton-fair\nPopis: \n\nThe 134 th Canton Fair will open in Guangzhou on O
 ctober 15 and provide 24/7 services for exhibitors and buyers through its 
 online platform.\nChina Import and Export Fair\, also known as the Canton 
 Fair\, is an important channel for China’s foreign trade and a window of
  China’s opening up. It plays a key role in advancing the development of
  China’s foreign trade and the economic and trade exchanges between Chin
 a and the rest of the world. And it is renowned as “China’s No. 1 Fair
 ”.\nBasic introduction link\nAdjustments link\n \n
URL:https://www.spcr.cz/134th-canton-fair
DTSTART:20231015T000000
DTEND:20231015T235959
LOCATION:
END:VEVENT
END:VCALENDAR
