BEGIN:VCALENDAR
PRODID:-//eluceo/ical//2.0/EN
VERSION:2.0
CALSCALE:GREGORIAN
BEGIN:VEVENT
UID:87d34c332a7675211ee4692fe565755a
DTSTAMP:20260423T173322Z
SUMMARY:BKUA - Workshop o předcházení rizik při podnikání na Ukrajin
 ě
DESCRIPTION:Název akce: BKUA - Workshop o předcházení rizik při podnik
 ání na Ukrajině\nURL: https://www.spcr.cz/bkua-workshop-o-predchazeni-r
 izik-pri-podnikani-na-ukrajine\nPopis: \n\nJedná se o seminář pouze pro
  členy Business klubu Ukrajina (BKO).\n\nVážení zástupci firem\, čle
 nové Business klubu Ukrajina\,zveme Vás na workshop o předcházení riz
 ikům při podnikání\, který se bude konat dne 31. 8. 2023 od 14:00 do 
 15:30 v prostorách Ministerstva průmyslu a obchodu na adrese Politický
 ch vězňů 20.\nTýmy expertů složené z úřadů napříč státní s
 právou se v rámci semináře zaměří na následující témata:\n· Du
 e-diligence: dozvíte se\, jak přistupovat k prověrkám partnerů\, jak
  rozpoznat rizikového aktéra a na jaké výstražné faktory si dát poz
 or.· Čelení nelegitimnímu ovlivňování a bezpečné cestování: ex
 perti z Ministerstva vnitra Vám představí bezpečnostní postupy\, pom
 ocí kterých můžete minimalizovat rizika ztráty citlivých dat či inf
 ormací při cestách do zahraničí.· Ochrana duševního vlastnictví: 
 představíme Vám trendy v krádežích duševního vlastnictví a sezn
 ámíme Vás s osvědčenými postupy\, pomocí kterých se bránit.· Ome
 zení v mezinárodním obchodu: seznámíme Vás s aktuálními vývozn
 ími a sankčními omezeními\, ukážeme Vám\, jak se v nich vyznat a j
 ak nenapomáhat jejich obcházení.\nVzhledem k omezenému počtu míst V
 ás žádáme\, abyste potvrdili svou účast co nejdříve na e-mailovou 
 adresu: ukrajina@mpo.cz. Uzávěrka přihlášek je  24.8.2023\, potvrzen
 í obdržíte 25.8.2023. Dovolujeme si upozornit\, že účast na workshop
 u je zdarma a pozvánka platí pouze pro členy Business klubu Ukrajina.\n
URL:https://www.spcr.cz/bkua-workshop-o-predchazeni-rizik-pri-podnikani-na-
 ukrajine
DTSTART:20230831T140000
DTEND:20230831T153000
LOCATION:
END:VEVENT
END:VCALENDAR
