BEGIN:VCALENDAR
PRODID:-//eluceo/ical//2.0/EN
VERSION:2.0
CALSCALE:GREGORIAN
BEGIN:VEVENT
UID:6e326eef33957bdd91324e13a2a7bf78
DTSTAMP:20260423T150245Z
SUMMARY:Kaohsiung Food Show
DESCRIPTION:Název akce: Kaohsiung Food Show\nURL: https://www.spcr.cz/kaoh
 siung-food-show\nPopis: \n\nVážená paní\, vážený pane\,\ndovolujeme
  si Vás pozvat na mezinárodní veletrh 2023 Kaohsiung Food Show\, kter
 ý se bude konat v Kaohsiung Exhibition Center od 26. do 29. října 2023.
 \nNa Kaohsiung Food Show budou letos k vidění tyto exponáty:\n\nčerstv
 é ovoce a zemědělské produkty\nmasné\, mléčné a rybí výrobky\nmr
 ažené a hotové výrobky\ndehydrované potraviny\nnápoje: káva\, čaj\
 , víno\, destiláty\ncukrovinky a sušenky\n\nNa podporu účasti na tomt
 o veletrhu nabízíme následující pobídkové balíčky. Upozorňujeme\
 , že nabídky platí do vyčerpání finančního rozpočtu a balíčky j
 sou poskytovány podle pořadí přijetí přihlášky.\n\nPro registraci 
 a podání pobídkové přihlášky vyplňte prosím přiložený formulá
 ř "company profile" a zašlete jej na emailovou adresu czech@sa.moea.gov
 .tw nebo cztwec01@sa.moea.org.tw.\nAktuální informace naleznete na ofi
 ciálních webových stránkách.\nNa veletrhu Vás rádi přivítáme.\nP
 ro další informace nás neváhejte kontaktovat:\nTereza ŠafářováEkon
 omické odděleníTchajpejská hospodářská a kulturní kancelář v Pra
 zeTel.: (+420) 234 722 021\n
URL:https://www.spcr.cz/kaohsiung-food-show
DTSTART:20231026T000000
DTEND:20231029T235959
LOCATION:
END:VEVENT
END:VCALENDAR
