BEGIN:VCALENDAR
PRODID:-//eluceo/ical//2.0/EN
VERSION:2.0
CALSCALE:GREGORIAN
BEGIN:VEVENT
UID:ef34b9c394ecb89ce23e6708cf7616c2
DTSTAMP:20260423T232050Z
SUMMARY:TAITRONICS & AIoT Taiwan 2023
DESCRIPTION:Název akce: TAITRONICS & AIoT Taiwan 2023\nURL: https://www.sp
 cr.cz/taitronics-aiot-taiwan-2023\nPopis: \n\nVážená paní\, vážený 
 pane\,\ndovolujeme si Vás pozvat na mezinárodní veletrh TAITRONICS & A
 IoT Taiwan 2023\, který se bude konat v Taipei Nangang Exhibition Center 
 od 25. do 27. října 2023. TAITRONICS se zaměřuje na elektronické sou
 částky a příslušenství\, pokročilé přístroje\, aplikace komunika
 ce příští generace a mnoho dalšího. Letos TAITRONICS představí exp
 onát zelené energie (skladování energie\, větrná energie\, vodní en
 ergie) a vzhledem k rostoucí poptávce také automatizační a spotřebn
 í produkty. AIoT Taiwan se zaměřuje na IoT zařízení\, inteligentní 
 služby a ekosystém metaverse.\nAktuální informace naleznete pod tímto
  odkazem.\nNa podporu účasti na tomto veletrhu nabízíme následující
  pobídkové balíčky. Upozorňujeme\, že nabídky platí do vyčerpán
 í finančního rozpočtu a balíčky jsou poskytovány podle pořadí př
 ijetí přihlášky.\n\nPro registraci a podání pobídkové přihlášky
  vyplňte prosím přiložený formulář "company profile" a zašlete jej
  na emailovou adresu czech@sa.moea.gov.tw nebo cztwec01@sa.moea.org.tw
  .\nNa veletrhu Vás rádi přivítáme.\nPro další informace nás nev
 áhejte kontaktovat:\nTereza ŠafářováEkonomické odděleníTchajpejsk
 á hospodářská a kulturní kancelář v PrazeTel.: (+420) 234 722 021\n
URL:https://www.spcr.cz/taitronics-aiot-taiwan-2023
DTSTART:20231025T000000
DTEND:20231027T235959
LOCATION:
END:VEVENT
END:VCALENDAR
