BEGIN:VCALENDAR
PRODID:-//eluceo/ical//2.0/EN
VERSION:2.0
CALSCALE:GREGORIAN
BEGIN:VEVENT
UID:f8658b9b59eee6b70684675b820dabde
DTSTAMP:20260423T124850Z
SUMMARY:Energy Taiwan 2023
DESCRIPTION:Název akce: Energy Taiwan 2023\nURL: https://www.spcr.cz/energ
 y-taiwan-2023\nPopis: \n\nDovolujeme si Vás pozvat na mezinárodní velet
 rh Energy Taiwan 2023\, který se bude konat v Taipei Nangang Exhibition 
 Center od 18. do 20. října 2023.\nNa Energy Taiwan budou letos k viděn
 í tyto exponáty:\n\n·PV Taiwan (fotovoltaika): zařízení\, testován
 í\, materiály\n·Wind Energy Taiwan (větrná energie): dodavatelé\, v
 ývojáři\, provozovatelé\n·Smart Storage Taiwan (chytré úložiště)
 : inteligentní sítě\, baterie\, elektrická vozidla\n·Emerging Power T
 aiwan (rozvíjející se zdroje): vodík\, vodní energie\, úložiště\n
 ·Net-Zero Taiwan (uhlíková neutralita): energetická úspora\, recyklac
 e solárních panelů\, zelené financování\n\nAktuální informace nale
 znete na oficiálních webových stránkách: https://www.energytaiwan.co
 m.tw/en/index.html\nNa podporu účasti na tomto veletrhu nabízíme násl
 edující pobídkové balíčky. Upozorňujeme\, že nabídky platí do vy
 čerpání finančního rozpočtu a balíčky jsou poskytovány podle poř
 adí přijetí přihlášky.\n\nPro registraci a podání pobídkové při
 hlášky vyplňte prosím přiložený formulář "company profile" a zaš
 lete jej na emailovou adresu czech@sa.moea.gov.tw nebo cztwec01@sa.moea
 .org.tw .\nNa veletrhu Vás rádi přivítáme.\nPro další informace n
 ás neváhejte kontaktovat:\nTereza ŠafářováEkonomické odděleníTcha
 jpejská hospodářská a kulturní kancelář v PrazeTel.: (+420) 234 722
  021cztwec01@sa.moea.gov.tw\, cztwec01@gmail.com\n
URL:https://www.spcr.cz/energy-taiwan-2023
DTSTART:20231018T000000
DTEND:20231020T235959
LOCATION:
END:VEVENT
END:VCALENDAR
