BEGIN:VCALENDAR
PRODID:-//eluceo/ical//2.0/EN
VERSION:2.0
CALSCALE:GREGORIAN
BEGIN:VEVENT
UID:a8daf579fa6695b25e0ea6198d545313
DTSTAMP:20260423T192922Z
SUMMARY:Podnikatelská mise do Kuvajtu a Saúdské Arábie
DESCRIPTION:Název akce: Podnikatelská mise do Kuvajtu a Saúdské Arábie
 \nURL: https://www.spcr.cz/podnikatelska-mise-do-kuvajtu-saudske-arabie\nP
 opis: \n\nMinisterstvo průmyslu a obchodu ČR a Svazu průmyslu a dopravy
  ČR Vás zvou k účasti na podnikatelské delegaci vedené vícepreziden
 tem Radkem Špicarem\, která bude doprovázet ministra průmyslu a obcho
 du Jozefa Síkelu do Kuvajtu a Saúdské Arábie ve dnech 4.-6. listopadu
  2023 s cílem podpořit obchodní\, energetickou\, investiční a techn
 ologickou spolupráci s těmito dvěma důležitými zeměmi regionu Pers
 kého zálivu.\nHarmonogram cesty bude zahrnovat dvě zastávky\, a to v
  Kuvajtu a Rijádu. V obou lokalitách budou uspořádána business f
 óra za účasti zástupců místního podnikatelského prostředí. Prio
 ritními sektory jsou: smart cities\, petrochemický průmysl\, energeti
 ka\, obnovitelné zdroje energie a environmentální technologie.\nV pří
 padě zájmu o účast na misi Vás žádáme o vyplnění formuláře (p
 ředběžný zájem) v odkazu: předběžný zájem do pátku 22. 9. 20
 23.\nZávazná registrace bude otevřena koncem září (spolu s cenou 
 účasti a všemi informacemi\, které v této době ladíme s Ministers
 tvem průmyslu a obchodu a oběma ZÚ).\nKapacita mise je omezená\, Minis
 terstvo průmyslu a obchodu ČR a Svaz průmyslu a dopravy ČR si vyhrazuj
 í právo na výběr přihlášených členů mise dle volných kapacit č
 i adekvátního zaměření této konkrétní mise.V případě jakýchko
 li nejasností či dotazů se na nás neváhejte obrátit\, a to na e-mail
 ové adrese mise@spcr.cz.\n
URL:https://www.spcr.cz/podnikatelska-mise-do-kuvajtu-saudske-arabie
DTSTART:20231104T000000
DTEND:20231106T235959
LOCATION:
END:VEVENT
END:VCALENDAR
