BEGIN:VCALENDAR
PRODID:-//eluceo/ical//2.0/EN
VERSION:2.0
CALSCALE:GREGORIAN
BEGIN:VEVENT
UID:a8158d4b6657f179412cc1669cbe1fb5
DTSTAMP:20260423T145806Z
SUMMARY:Hrozby a výzvy textilního průmyslu
DESCRIPTION:Název akce: Hrozby a výzvy textilního průmyslu\nURL: https:
 //www.spcr.cz/hrozby-vyzvy-textilniho-prumyslu\nPopis: \n\nP R O G R A M :
  09:30 – 10:00 P R E Z E N C E  Ú Č A S T N Í K Ů 10:00 – 10:10 P
  ř i v í t á n í  a  ú v o d n í  s l o v o Pavel Bulíček\, 1. 
 náměstek hejtmana KHK\, oblast inovací\, investic a IT 10:10 – 10:20 
 Vývoj textilního průmyslu\, odhad množství textilního odpadu Jiří 
 Česal\, výkonný ředitel ATOK 10:20 – 10:30 Revitalizace TOP EU Jan M
 arek\, obchodně technický ředitel INOTEX spol. s r.o. 10:30 – 10:40 S
 trategické směry VaVaI v TOP Miloš Beran\, Česká technologická platf
 orma pro textil\, z.s. 10:40 – 11:00 COFFEE BREAK\n2 . B L O K  P Ř E 
 D N Á Š E K :11:00 – 11:10 Výuka textilních oborů na SPŠ O. Wichte
 rleho v Hronově Josef Matyáš\, ředitel\, SPŠ O. Wichterleho11:10 – 
 11:20 Sloučení SPŠ textilní\, VOŠ a SPŠ strojní a elektrotechnické
  v Liberci. Změny ve výuce textilnictví a oděvnictví po sloučení Ja
 roslav Semerád\, ředitel SPŠSE a VOŠ Liberec 11:20 – 11:30 Tvorba vz
 tahu k textilu prostřednictvím metody designové myšlení a asistence A
 I Katarína Přikrylová\, odborná asistentka\, PdF UHK11:30 – 11:40 11
 :40 – 11:50 Spolupráce uměleckých textilních oborů VŠ v ČR s výr
 obními podniky Vlastimil Havlík\, odborný asistent\, PdF UHK Výzkumné
  projekty na FT TUL Vladimír Bajzík\, děkan Fakulty textilní\, TUL REG
 ISTRACE NA AKCI:Účast je zdarma po předchozí registraci na: bit.ly/tex
 til_registrace\n
URL:https://www.spcr.cz/hrozby-vyzvy-textilniho-prumyslu
DTSTART:20230907T100000
DTEND:20230907T130000
LOCATION:
END:VEVENT
END:VCALENDAR
