BEGIN:VCALENDAR
PRODID:-//eluceo/ical//2.0/EN
VERSION:2.0
CALSCALE:GREGORIAN
BEGIN:VEVENT
UID:5795802ff6986e16631ca3908e8ee2c0
DTSTAMP:20260423T172743Z
SUMMARY:LinkedIn pro exportéry
DESCRIPTION:Název akce: LinkedIn pro exportéry\nURL: https://www.spcr.cz/
 linkedin-pro-exportery-0\nPopis: \n\nChcete poradit\, jak efektivně využ
 ívat největší profesní síť LinkedIn? Na našem semináři se dozví
 te\, jak vyhledávat a získávat nové obchodní kontakty\, udržovat vzt
 ah se svými obchodními partnery/zákazníky či jak se vhodně prezentov
 at jako firma i jednotlivec. Zároveň také\, jak si na LinkedIn vybudov
 at profil a pracovat s nástroji\, které tato profesní síť nabízí.A
 notace:\n\nJak na profil společnosti/osobní profil (optimalizace profil
 u\, klíčová slova\, reference)\nJak na LinkedIn vyhledávat a získáva
 t nové kontakty\nJak se prezentovat vůči obchodním partnerům a zákaz
 níkům (komunikace B2B\, B2C)\nJak psát zajímavé příspěvky a zaujm
 out publikum na LinkedIn\nJak na expanzi na zahraniční trhy pomocí Link
 edIn – jak získávat kontakty např. na německém trhu\, specifika v
  komunikaci\, firemní profil v cizím jazyce\nPraktická část pro ú
 častníky – Součástí kurzu je i úprava vlastních profilů\, prot
 o je vhodné na kurz přijít už se založeným osobním účtem.\nDiskus
 e\n\nDŮLEŽITÉ: Nezapomeňte si na akci přinést vlastní notebook\, ab
 yste si mohli s lektorkou vše ohledně LinkedIn hned na místě vyzkouše
 t.\nIng. Lencová Veronika MBACharismatická lektorka\, profesionální ko
 učka\, spisovatelka\, vymýšlí a realizuje on-line strategie na LinkedI
 n. Autorka aplikace VERO\, aplikace na finanční řízení a finanční a
 nalýzu či hodnotu firmy. | Veronika vychází ze svých dlouholetých pr
 ofesionálních zkušeností\, pracovala jako finanční ředitelka a kons
 ultantka pro SAP: A.Poettinger\, ENGEL Strojírenská finanční ředitelk
 a a konsultantka SAPU\, BMD System haus Steyer. Školí controlling\, stor
 ytelling a time management metodikou GTD neboli Getting things done - Mít
  vše hotovo\, Zen a hotovo.\nDALŠÍ INFORMACE A PŘIHLÁŠENÍ NA SEMIN
 ÁŘ\n
URL:https://www.spcr.cz/linkedin-pro-exportery-0
DTSTART:20230926T090000
DTEND:20230926T160000
LOCATION:
END:VEVENT
END:VCALENDAR
