BEGIN:VCALENDAR
PRODID:-//eluceo/ical//2.0/EN
VERSION:2.0
CALSCALE:GREGORIAN
BEGIN:VEVENT
UID:31a5637474d07e424eabf0aaf29e5cde
DTSTAMP:20260423T130518Z
SUMMARY:Online seminář: NIGÉRIE a JAR – praktické tipy pro české ex
 portéry
DESCRIPTION:Název akce: Online seminář: NIGÉRIE a JAR – praktické ti
 py pro české exportéry\nURL: https://www.spcr.cz/online-seminar-nigerie
 -jar-prakticke-tipy-pro-ceske-exportery\nPopis: \n\nAktuální exportní p
 říležitosti na trzích Nigérie a Jihoafrické republiky a užitečné
  tipy z praxe pro české firmy představí na online semináři ředitel
 é zahraničních kanceláří CzechTrade.\nAnotace\n\nAktuální situace 
 na trzích NIGÉRIE a JARU\nExportní příležitosti a možnosti expanze 
 pro české firmy\nJak správně vyhledávat partnery a na co si dát pozo
 r\nOptimální formy vstupu na daný trh\nStrategie vstupu na dané trhy\,
  překážky\, příležitosti a praktické tipy pro obchodování\nZkuše
 nosti a časté chyby českých exportérů při exportu do těchto terito
 rií\nAsistence kanceláří CzechTrade v NIGÉRII a JARU\nOtázky a odpo
 vědi\n\nOBECNÉ INFORMACE\nDen před konáním akce Vám e-mailem zašlem
 e prolink k připojení na danou akci.K účasti na online semináři pot
 řebujete pouze PC\, notebook či telefon s internetovým připojením.Akc
 e je ZDARMA.Účastníci se mohou aktivně zapojit prostřednictvím dotaz
 ů nebo být pasivními posluchači.\n \nVÍCE INFORMACÍ A PŘIHLÁŠEN
 Í NA AKCI\n
URL:https://www.spcr.cz/online-seminar-nigerie-jar-prakticke-tipy-pro-ceske
 -exportery
DTSTART:20230919T100000
DTEND:20230919T113000
LOCATION:
END:VEVENT
END:VCALENDAR
