BEGIN:VCALENDAR
PRODID:-//eluceo/ical//2.0/EN
VERSION:2.0
CALSCALE:GREGORIAN
BEGIN:VEVENT
UID:bb7f21db4fa5ed93a2a463630ff1bc3f
DTSTAMP:20260423T130228Z
SUMMARY:Online seminář: AI a její využití v oblasti obchodu a exportu
DESCRIPTION:Název akce: Online seminář: AI a její využití v oblasti o
 bchodu a exportu\nURL: https://www.spcr.cz/online-seminar-ai-jeji-vyuziti-
 v-oblasti-obchodu-exportu\nPopis: \n\nZveme Vás na on-line seminář poř
 ádaný agenturou CzechTrade.\nObsah semináře:\n\nÚvod do AI: Objasněn
 í základních konceptů a principů umělé inteligence. Zaměřte se na
  jednoduché vysvětlení AI a jeho využití v různých oblastech.\nMark
 etingová kampaň s pomocí ChatGPT: Představení konceptu využití Chat
 GPT pro přípravu marketingových kampaní. Ukázka postupu a příkladů
  toho\, jak AI může pomoci při plánování a strategii kampaně.\nStra
 tegie kampaně: Klíčové aspekty strategie kampaně\, jako je cílová s
 kupina\, cíle\, sdělení a kanály komunikace. Na semináři se zaměř
 íme na to\, jak AI může pomoci vytvořit efektivní strategii.\nKomunik
 ace s cílovou skupinou: Význam a způsoby komunikace s cílovou skupinou
  při exportu do nových zemí. Ukázka toho\, jak AI může pomoci při p
 ersonalizaci a přizpůsobení komunikačních aktivit.\nVyužití AI pro 
 úpravu fotek: Představení nástrojů a technik\, jak AI může pomoci p
 ři úpravě a zpracování fotografií pro marketingové účely.\nVyuži
 tí AI pro tvorbu webu: možné metody\, jak může být AI využita při 
 tvorbě webových stránek. Představení nástrojů pro tvorbu webu s pod
 porou AI a příklady jejich použití.\nVyužití AI pro vytvoření rekl
 amní znělky: Vysvětlení\, jak AI může být využita k vytvoření at
 raktivní a originální reklamní znělky. Ukážeme si\, jak AI může g
 enerovat a upravovat zvukové prvky pro reklamy  \nVyužití AI pro naml
 uvení reklamního spotu: Diskuze o tom\, jak AI může být využita k ge
 nerování namluveného obsahu pro reklamní spoty. Ukážeme si\, jak AI 
 může pomoci s vytvářením hlasových nahrávek pro různé jazyky a n
 ářečí.\nOtázky a odpovědi\n\nDen před konáním akce Vám e-mailem 
 zašleme prolink na danou akci. K účasti na online semináři potřebuje
 te pouze PC\, notebook či telefon s internetovým připojením.\nAkce je 
 ZDARMA. Účastníci se mohou aktivně zapojit prostřednictvím dotazů 
 nebo být pasivními posluchači.\n \nLEKTOR\n\n\n\nKotek MartinSpecialis
 ta komercializace na rektorátu ČVUT\, prezident Asociace virtuální a r
 ozšířené reality (AVRAR).\n \nPODROBNOSTI A PŘIHLÁŠENÍ NA AKCI\n
  \n
URL:https://www.spcr.cz/online-seminar-ai-jeji-vyuziti-v-oblasti-obchodu-ex
 portu
DTSTART:20230914T090000
DTEND:20230914T120000
LOCATION:
END:VEVENT
END:VCALENDAR
