BEGIN:VCALENDAR
PRODID:-//eluceo/ical//2.0/EN
VERSION:2.0
CALSCALE:GREGORIAN
BEGIN:VEVENT
UID:7a7309a151b8955ab2429bc1575881f3
DTSTAMP:20260423T163117Z
SUMMARY:Obchodní vyjednávání a přesvědčivá argumentace
DESCRIPTION:Název akce: Obchodní vyjednávání a přesvědčivá argumen
 tace\nURL: https://www.spcr.cz/obchodni-vyjednavani-presvedciva-argumentac
 e-0\nPopis: \n\nZveme Vás na seminář pořádaný agenturou CzechTrade.\
 n\nDostáváte se do situace\, kdy se zákazníkem musíte vyjednávat pod
 mínky spolupráce\, obchodu a nevíte\, jak vše vyjednat tak\, aby byly 
 obě strany spokojené?\nVaši zákazníci mají námitky na vaše produkt
 y a služby a vy je potřebujete umět překonat a zákazníka si tak při
 táhnout na svou stranu?\nPotřebujete se naučit nenásilnou formou přes
 vědčit zákazníka a zároveň umět reagovat na případnou manipulaci 
 z jeho strany?\n\nPokud si na některou otázku odpovíte ANO\, pak je ten
 to jednodenní tréninkový seminář určen právě vám.\n \nCo vám tr
 éninkový seminář přinese?\n\nZjistíte\, co vše lze využít pro ús
 pěšné vyjednávání a seznámíte se s hlavními zásadami a principy 
 ve vyjednávání\nNaučíte se pracovat s nepříznivými emocemi během 
 vyjednáváni (svými i zákazníků)\nZískáte tipy na různé druhy arg
 umentů\, které zákazníky přesvědčí\nNaučíte se překonávat nám
 itky zákazníků\, které jsou nedílnou součástí téměř každého o
 bchodu\nOsvojíte si postup\, jak zvládnout manipulaci ze strany zákazn
 íků\nProcvičíte si všechna témata na situacích z reálného byznysu
  a obdržíte konstruktivní zpětnou vazbu a doporučení pro další roz
 voj\n\nObsah\n\nPříprava na vyjednávání – co vše musím vzít v ú
 vahu\, když se na vyjednávání připravuji\nÚstupky ve vyjednávání 
 – pravidla\, která je vhodná dodržovat\nSpecifická komunikace během
  vyjednávacího rozhovoru – práce s tichem\, otázkami\nEmoce jsou ná
 š (ne)přítel – jak pracovat s nežádoucími emocemi během vyjednáv
 ání\, jak si „ochočit“ své emoce a zpracovat emoce klienta\nPůsob
 ivé a účinné vyjadřování – čím zvýšíte přesvědčivost a č
 ím ji naopak snížíte\, tipy pro vaše vyjadřování\nTypy argumentů 
 a co vše můžeme použít jako argument\nLogický sled argumentů pro ja
 snější a srozumitelnější pochopení\nPseudoargumenty aneb manipulace
  v praxi – jak manipulaci ze strany zákazníků rozpoznat a jak jí zvl
 ádnout\nNámitky vítány – proč mají zákazníci námitky a co je za
  nimi obvykle schováno\, jednoduchý a zaručený tříkrokový systém k
  překonání námitek a přesvědčení zákazníka\nPraktický nácvik\,
  aplikace do praxe a doporučení pro další rozvoj.\n\nMetody\nNa tréni
 nkovém semináři si procvičíte probíraná témata v praxi\, získáte
  spoustu know-how\, které můžete ihned aplikovat\, budete pracovat ve s
 kupinách i samostatně a dostanete spoustu tipů na úspěšnější zvl
 ádání vyjednávacích situací (nejen) se zákazníky.\nREGISTROVAT SE\
 nORGANIZAČNÍ GARANT\n\nDaniela Barcalová vedoucí exportního vzděláv
 áníE: daniela.barcalova@czechtrade.cz T: +420 224 907 533 M: +420 725 76
 3 172\n
URL:https://www.spcr.cz/obchodni-vyjednavani-presvedciva-argumentace-0
DTSTART:20230912T090000
DTEND:20230912T170000
LOCATION:
END:VEVENT
END:VCALENDAR
