BEGIN:VCALENDAR
PRODID:-//eluceo/ical//2.0/EN
VERSION:2.0
CALSCALE:GREGORIAN
BEGIN:VEVENT
UID:9e4f0037f32e82d4bb9ca507c09b634c
DTSTAMP:20260423T172439Z
SUMMARY:Den českých exportérů 2023
DESCRIPTION:Název akce: Den českých exportérů 2023\nURL: https://www.s
 pcr.cz/den-ceskych-exporteru-2023\nPopis: \n\n4. ROČNÍK OCENĚNÍ ČESK
 ÝCH EXPORTÉRŮPokud exportujete alespoň 20 % tržeb a váš roční obr
 at převyšuje 10 milionů Kč alespoň v jednom roce z posledních tří 
 let\, můžete se přihlásit do soutěže\, kterou spolupořádá agentur
 a CzechTrade.  V soutěži jsou kategorie pro malé\, středně velké a 
 velké ryze české exportní firmy. Online REGISTRACE je stále spušt
 ěna a je bezplatná. Ocenění vítězům budou předána na slavnostním
  gala večeru v listopadu v Praze. V rámci projektu probíhá řada akcí
 \, kterých se můžete v případě zájmu účastnit. Sledovat je může
 te můžete v kalendáři.KontaktZuzana SynkováŘeditelka odboru marketi
 ngu a strategieČeská agentura na podporu obchodu | CzechTradeŠtěpánsk
 á 15 | 120 00 Praha 2Tel.: +420 224 907 535 | Mobil: +420 724 339 449E-ma
 il: zuzana.synkova@czechtrade.czwww.czechtrade.cz \n
URL:https://www.spcr.cz/den-ceskych-exporteru-2023
DTSTART:20231130T000000
DTEND:20231130T235900
LOCATION:
END:VEVENT
END:VCALENDAR
