BEGIN:VCALENDAR
PRODID:-//eluceo/ical//2.0/EN
VERSION:2.0
CALSCALE:GREGORIAN
BEGIN:VEVENT
UID:808f837733077885acd835c258aa2ff4
DTSTAMP:20260423T125654Z
SUMMARY:Mezinárodní odborná konference Údržba 2023
DESCRIPTION:Název akce: Mezinárodní odborná konference Údržba 2023\nU
 RL: https://www.spcr.cz/mezinarodni-odborna-konference-udrzba-2023\nPopis:
  \n\nZveme Vás na 19. ročník mezinárodní odborné konference ÚDRŽBA
  2023 „Autonomní údržba a diagnostika zařízení aneb každý má vl
 iv na kondici strojů“Dovolujeme si Vás pozvat na tradiční mezinárod
 ní odbornou konferenci Údržba 2023\, kde se zaměříme mimo jiné na p
 roblematiku autonomní údržby a využití technické diagnostiky v oblas
 ti údržby strojů a zařízení. Program nabídne přednášky nejen z o
 blasti diagnostiky\, ale také z dalších oblastí souvisejících s údr
 žbou. Budete si moci mimo jiné poslechnout příspěvky o robotice\, dig
 italizaci údržby\, tribotechnice\, energetice\, aditivní výrobě\, vzd
 ělávání a úloze člověka v procesu údržby a další zajímavá té
 mata.Cílem konference zůstává pravidelné setkání lidí se zájmem o
  rozvoj procesů údržby\, výměnu zkušeností a dobrých nápadů\, s 
 motivací tvořit a být v neustálém kontaktu s dobou.\nVíce informací
  zdeNa konferenci máte možnost:\n\núčastnit se jako posluchač\nvystav
 ovat - prezentovat výrobky\, postupy\, služby - získat kontakty\nbýt p
 artnerem - mít logo firmy umístěné v partnerské sekci v materiálech 
 a v přednáškovém sále\nnavázat nové kontakty při neformálním ve
 černím programu\n
URL:https://www.spcr.cz/mezinarodni-odborna-konference-udrzba-2023
DTSTART:20230920T000000
DTEND:20230921T235959
LOCATION:
END:VEVENT
END:VCALENDAR
