BEGIN:VCALENDAR
PRODID:-//eluceo/ical//2.0/EN
VERSION:2.0
CALSCALE:GREGORIAN
BEGIN:VEVENT
UID:5803dc11a9911ffe4fda42327ac6d8c0
DTSTAMP:20260423T194031Z
SUMMARY:Každoroční EU-U.S. workshop pro malé a střední podniky v Alab
 amě\, USA
DESCRIPTION:Název akce: Každoroční EU-U.S. workshop pro malé a středn
 í podniky v Alabamě\, USA\nURL: https://www.spcr.cz/kazdorocni-eu-us-wor
 kshop-pro-male-stredni-podniky-v-alabame-usa\nPopis: \n\nSrdečně Vás zv
 eme na 12. ročník EU-U.S. workshopu pro malé a střední podniky (SME).
 \n\nWorkshop\, který každoročně pořádá Generální ředitelství Ev
 ropské komise pro vnitřní trh\, průmysl\, podnikání\, malé a střed
 ní podniky (GROW)\, Generální ředitelství pro obchod (TRADE)\, Úřad
  obchodního zástupce USA (USTR)\, Ministerstvo obchodu USA a Správa mal
 ých podniků USA\, se bude letos konat v Birminghamu v Alabamě ve stře
 du 13. září 2023.\nProgram workshopu naleznete zde. Byl navržen tak\, 
 aby malým a středním podnikům se sídlem v EU poskytl:\n\nPosílení m
 ístní přítomnosti v Alabamě: Navázání kontaktů mezi podniky z EU 
 a USA v rámci širší obchodní komunity v Alabamě\, kultivace vztahů\
 , které by mohly vést k novým partnerstvím a příležitostem\,\n\n\nT
 aktika expanze trhu: Získejte základní vhled do dynamiky trhu v EU a US
 A\, odhalte nové strategie pro další regionální expanzi\, těžte ze 
 své stávající nebo budoucí přítomnosti na trhu.\n\n\nNetworking & C
 ollaboration: Spolupracujte s lídry v oboru\, odborníky a potenciálním
 i partnery z EU i USA.\n\n\nOdborné poradenství: Využijte interakcí s 
 vládními úředníky EU a členských států EU\, americkými obchodní
 mi diplomaty a odborníky z oboru a získejte poznatky o nově vznikajíc
 ích sektorech\, regulačních oblastech a osvědčených postupech pro ex
 panzi.\n\n\nInteraktivní workshopy a panely: Zúčastněte se podnětnýc
 h setkání a panelových diskusí o globálním rozvoji obchodu\, příst
 upu k financování malých a středních podniků\, efektivních meziná
 rodních strategiích a obchodních příležitostech.\n\nZveme vás rovn
 ěž k účasti na doplňkových akcích 12. září a 14. září. Tyto d
 ny byly navrženy tak\, aby usnadnily networking\, spolupráci mezi malým
 i a středními podniky a podpořily rozvoj obchodního ekosystému Alabam
 y. Akce 12. září a 13. září jsou zdarma. Za účast 14. září se p
 latí nominální poplatek 50 USD.\nSvou účast prosím potvrďte zaslán
 ím e-mailu na adresu EU-USSMEWORKSHOP@ec.europa.eu.\n
URL:https://www.spcr.cz/kazdorocni-eu-us-workshop-pro-male-stredni-podniky-
 v-alabame-usa
DTSTART:20230912T080000
DTEND:20230914T170000
LOCATION:
END:VEVENT
END:VCALENDAR
