BEGIN:VCALENDAR
PRODID:-//eluceo/ical//2.0/EN
VERSION:2.0
CALSCALE:GREGORIAN
BEGIN:VEVENT
UID:642b6723b1419725e01aaac9e8c5848d
DTSTAMP:20260423T124932Z
SUMMARY:World Engineers Convention 2023
DESCRIPTION:Název akce: World Engineers Convention 2023\nURL: https://www.
 spcr.cz/world-engineers-convention-2023\nPopis: \n\nKaždé čtyři roky s
 e inženýři z celého světa setkávají na World Engineers Convention. 
 V letošním roce se WEC 2023 uskuteční v Praze\, s hlavním tématem En
 gineering for life: Breakthrough Technologies and Capacity Development Foc
 used on UN SDGs.\nThe theme of WEC 2023 responds to current planetary chal
 lenges and reflects the main goal which is to explore and find how high-te
 ch\, as well as low-tech innovations\, artificial intelligence and a trans
 disciplinary approach\, can ensure environmental sustainability and assure
  a safer\, fairer\, more efficient\, better\, healthy and peaceful future.
 World Engineers Conventions are the largest gatherings of the engineering 
 world and attract up to 6000 participants from more than 100 countries. Th
 is event aims to bring together engineers\, scientists\, technical special
 ists as well as industry executives\, policymakers\, influencers\, educato
 rs and students from around the world in order to exchange views and mobil
 ize their crucial international role in contributing to solving the most c
 ritical global problems of humanity.The wide range of congress topics offe
 rs participants to learn from technical and social science contributions t
 o humanity’s sustainable future and feed them with new ideas and motivat
 ions. This is unique and distinguishes our WEC 2023 from other scientific 
 monothematic congresses.\nVíce informací naleznete na webu akce.\n \n
URL:https://www.spcr.cz/world-engineers-convention-2023
DTSTART:20231011T000000
DTEND:20231013T235959
LOCATION:
END:VEVENT
END:VCALENDAR
