BEGIN:VCALENDAR
PRODID:-//eluceo/ical//2.0/EN
VERSION:2.0
CALSCALE:GREGORIAN
BEGIN:VEVENT
UID:7fcb2c6e0b9e38c47b0e5a7721339b9b
DTSTAMP:20260423T145025Z
SUMMARY:Veletrh Pollutec Lyon
DESCRIPTION:Název akce: Veletrh Pollutec Lyon\nURL: https://www.spcr.cz/ve
 letrh-pollutec-lyon\nPopis: \n\nVeletrh Pollutec je uznáván jako referen
 ční akce pro odborníky v oblasti životního prostředí. Je platformou
  environmentálních řešení pro průmysl\, města a regiony a odrazový
  můstek pro inovace a mezinárodní rozvoj.\nVeletrh letos slaví 45. vý
 ročí\, minulý ročník veletrh navštívilo více než 46 000 odbornýc
 h návštěvníků (z toho 12 % mezinárodních) a 2 000 vystavovatelů (z
  toho 28 % mezinárodních). Na veletrhu je zastoupeno 14 odvětví\, při
 čemž obsah a diskuse jsou jádrem strategie veletrhu.\n Veletrh se kon
 á v termínu 10. – 13. 10. 2023 v Lyonu ve Francii - www.pollutec.com
  Více informací o veletrhu zdeZveme vás k účasti na veletrhu Pollut
 ec Lyon na společné expozici CzechTrade v rámci dotačního programu N
 OVUMM KET\, kde zbývají poslední místa. Uzávěrka nabídky do 15.8.20
 23: Na účast může firma čerpat podporu až do výše 90 000 Kč (po
 vinná participace firmy je 50 % nákladů). Podpora je poskytována mal
 ým a středním českým podnikům (do 250 zaměstnanců) se sídlem\, p
 řípadně provozovnou mimo Prahu. Kontaktní informace – www.czechtra
 de.czPRO NÁVŠTĚVNÍKY: V případě zájmu je možné zajistit návš
 těvu veletrhu formou delegace se specifickým programem. Registrace vstu
 penky zde (pro jednotlivce\, v případě skupiny nás kontaktujte)Pro v
 íce informací kontaktujte Zastoupení francouzských veletrhů pro ČR a
  SR – www.francouzskeveletrhy.cz\, info@francouzskeveletrhy.cz\, +420 2
 22 518 587\n
URL:https://www.spcr.cz/veletrh-pollutec-lyon
DTSTART:20231010T000000
DTEND:20231013T235959
LOCATION:
END:VEVENT
END:VCALENDAR
