BEGIN:VCALENDAR
PRODID:-//eluceo/ical//2.0/EN
VERSION:2.0
CALSCALE:GREGORIAN
BEGIN:VEVENT
UID:362959d7355ecca5db9a2fa809b1e2e9
DTSTAMP:20260423T125529Z
SUMMARY:FUTURE OF EXPORT SUMMIT 2023
DESCRIPTION:Název akce: FUTURE OF EXPORT SUMMIT 2023\nURL: https://www.spc
 r.cz/future-export-summit-2023-0\nPopis: \n\nZveme vás na prestižní byz
 nysovou akci FUTURE OF EXPORT SUMMIT 2023.V druhém ročníku FUTURE OF EX
 PORT SUMMIT 2023 klíčové osobnosti českého byznysu představí souča
 sné trendy světového exportu. Také experti CzechTrade s Vámi budou sd
 ílet know-how z 64 trhů\, kde CzechTrade působí. Bude připraven odbor
 ný program\, kde vystoupí významné osobnosti renomovaných společnost
 í\, působících na blízkých i vzdálených zahraničních trzích. D
 ále vystoupí odborníci z vybraných zahraničních kanceláří a centr
 ály CzechTrade. Akce je vhodná pro podnikatele\, CEO\, obchodní ředite
 le\, exportní manažery\, specialisty na udržitelnost nebo business deve
 lopment.\nProgram konference a informace k registraci na tomto odkaze. \n
URL:https://www.spcr.cz/future-export-summit-2023-0
DTSTART:20231030T100000
DTEND:20231030T143000
LOCATION:
END:VEVENT
END:VCALENDAR
