BEGIN:VCALENDAR
PRODID:-//eluceo/ical//2.0/EN
VERSION:2.0
CALSCALE:GREGORIAN
BEGIN:VEVENT
UID:c3e44383cfc771e2295e0fc7a7a24749
DTSTAMP:20260423T130625Z
SUMMARY:Seminář k zapojení do rozvojových nástrojů EU pro české imp
 lementační partnery
DESCRIPTION:Název akce: Seminář k zapojení do rozvojových nástrojů E
 U pro české implementační partnery\nURL: https://www.spcr.cz/seminar-k
 -zapojeni-do-rozvojovych-nastroju-eu-pro-ceske-implementacni-partnery\nPop
 is: \n\nDovolujeme si Vás pozvat na seminář organizovaný MZV ve spolup
 ráci s Evropskou. “Seminář k zapojení do rozvojových nástrojů E
 U pro české implementační partnery“ proběhne 3. října 2023 od 10 
 do 15 hodin.\nNa semináři budou zástupci Evropské komise prezentovat p
 říležitosti pro zapojení do evropských nástrojů a programů v růz
 ných geografických a sektorových oblastech. Zástupci českého veřejn
 ého\, soukromého\, neziskového i akademického sektoru\, kteří již r
 ealizují evropské prostředky\, se podělí o své zkušenosti a doporu
 čení.\nJednacím jazykem semináře bude angličtina. Akce proběhne v 
 hybridní formě: fyzicky v sídle MZV ČR\, Loretánské náměstí 5\, 
 Praha 1\, on-line na platformě webex.\nPotvrzení Vašeho zájmu o osobn
 í či on-line účast proveďte emailem na adrese: ors@mzv.cz do 5. zář
 í.\nPodrobný program a odkaz pro on-line účast bude sdílen s registr
 ovanými zájemci v první polovině září.\n
URL:https://www.spcr.cz/seminar-k-zapojeni-do-rozvojovych-nastroju-eu-pro-c
 eske-implementacni-partnery
DTSTART:20231003T100000
DTEND:20231003T150000
LOCATION:
END:VEVENT
END:VCALENDAR
