BEGIN:VCALENDAR
PRODID:-//eluceo/ical//2.0/EN
VERSION:2.0
CALSCALE:GREGORIAN
BEGIN:VEVENT
UID:3c29c4aab7b3d4f901299bdd95b2c472
DTSTAMP:20260423T145806Z
SUMMARY:B2B THINK BUSINESS THINK Hong Kong
DESCRIPTION:Název akce: B2B THINK BUSINESS THINK Hong Kong\nURL: https://w
 ww.spcr.cz/b2b-think-business-think-hong-kong\nPopis: \n\nDovolujeme si sr
 dečně pozvat členské firmy na jedinečnou B2B událost THINK BUSINESS 
 THINK Hong Kong (TBTHK)\, která se koná 19. září 2023 v Carrousel 
 du Louvre\, v Paříži.\nB2B událost\, která se koná k posílení vzt
 ahů mezi Francií a Hongkongem v oblasti technologií\, zdravotnictví\,
  financí a designu. Celodenní sympozium\, kde se můžete informovat a s
 pojit se s předními francouzskými a hongkongskými lídry a diskutovat
  o nejnovějším vývoji a perspektivách v Asii.\nNa této události V
 ás čekají:\n\nVedoucí představitelé francouzského a Hongkongského 
 obchodu\, kteří budou sdílet své zkušenosti s využitím jedinečné
  obchodní platformy v Asii\nPraktické tipy pro společnosti\, jak rozš
 ířit své působení v Asii\nPřehlídka hongkongských inovací a star
 tupů\n\nAsociacím/obchodním komorám\, které zorganizují své delegac
 e pro toto evropské fórum\, bude nabídnuto:\n\nBezplatné\, předem dom
 luvené individuální schůzky se společnostmi z Hongkongu nebo se star
 tupy\, a to 19. září odpoledne\nVyhrazená místa pro účast na dopole
 dních zasedáních TBTHK\nVstup na networkingový oběd během TBTHK 19. 
 září\nKomentovaná prohlídka salónu inovací\, který poskytuje pohle
 d na inovativní řešení Hongkongských startupů\n\nVíce informací na
 leznete v příloze. \n
URL:https://www.spcr.cz/b2b-think-business-think-hong-kong
DTSTART:20230919T080000
DTEND:20230919T170000
LOCATION:
END:VEVENT
END:VCALENDAR
