BEGIN:VCALENDAR
PRODID:-//eluceo/ical//2.0/EN
VERSION:2.0
CALSCALE:GREGORIAN
BEGIN:VEVENT
UID:1f5ec1cf59d6ff2b405fbdeeaeb95753
DTSTAMP:20260423T213336Z
SUMMARY:Webinář Co přinese zákon o ochraně oznamovatelů zaměstnavate
 lům?
DESCRIPTION:Název akce: Webinář Co přinese zákon o ochraně oznamovate
 lů zaměstnavatelům?\nURL: https://www.spcr.cz/webinar-co-prinese-zakon-
 o-ochrane-oznamovatelu-zamestnavatelum\nPopis: \n\nWebinář proběhne ON-
 LINE přes platformu MS TEAMS.\n\nWebinář se bude věnovat zákonu o och
 raně oznamovatelů\, který schválila Poslanecká sněmovna.\nÚčelem z
 ákona je zejména ochrana zaměstnanců /oznamovatelů před odvetným je
 dnáním ze strany zaměstnavatelů\, pokud zaměstnanci oznámí závažn
 á protiprávní jednání.\nWebinář je určen pro jednatele\, právník
 y a pracovníky compliance.\n\nPřednášející\n\nJUDr. Jiří Kapras\, 
 ředitel Odboru střetu zájmů a boje proti korupci\, Ministerstvo sprave
 dlnosti\nMgr. Johana Trešlová\, Oddělení boje proti korupci\, Odbor st
 řetu zájmů a boje proti korupci\, Ministerstvo spravedlnosti\n\nCo se d
 ozvíte na webináři?\n\nJaké povinnosti nová právní úprava přiná
 ší zaměstnavatelům.\nJak a do kdy nastavit vnitřní oznamovací syst
 ém.\nJaké hrozí pokuty.\nKdo všechno je podle zákona za oznamovatele 
 považován.\nCo znamená odvetné opatření vůči oznamovateli.\n\nRegi
 strace\n\nPřihlaste se prosím přes on-line formulář. Webinář je zda
 rma.\n\nOrganizace a dotazy\n\nLenka Čechová\, manažerka služeb a regi
 onálních zastoupení\, lcechova@spcr.cz\, 733 643 521.\n
URL:https://www.spcr.cz/webinar-co-prinese-zakon-o-ochrane-oznamovatelu-zam
 estnavatelum
DTSTART:20230810T090000
DTEND:20230810T110000
LOCATION:
END:VEVENT
END:VCALENDAR
