BEGIN:VCALENDAR
PRODID:-//eluceo/ical//2.0/EN
VERSION:2.0
CALSCALE:GREGORIAN
BEGIN:VEVENT
UID:0a2700fd0b49563310808a98b364ebc0
DTSTAMP:20260423T162951Z
SUMMARY:Nakládaní s odpady\, novinky v legislativě\, sankce
DESCRIPTION:Název akce: Nakládaní s odpady\, novinky v legislativě\, sa
 nkce\nURL: https://www.spcr.cz/nakladani-s-odpady-novinky-v-legislative-sa
 nkce-0\nPopis: \n\nSvaz průmyslu a dopravy České republiky\, Okresní h
 ospodářská komora Liberec\, Spolek pro rozvoj lidských zdrojů Liberec
  vás srdečně zvou na seminář\nRÁMCOVÝ PROGRAM\n\n Prezence\, obče
 rstvení\n Zahájení\n\n1. část\n\n Legislativa v oblasti nakládán
 í s odpady\n Přechodná období a novinky od 1. 1. 2023\n Odpad\, vedl
 ejší výrobek a ukončení odpadového režimu\n Základní povinnosti\
 , povinnosti původce a provozovatele zařízení\n Povinnosti v rámci j
 ednotlivých způsobů nakládání s odpady\n Vybrané druhy odpadů a n
 akládání s nimi - nebezpečné odpady\, komunální odpady\, atd.\n Pr
 ůběžná evidence a ohlašovací povinnosti\n\n2. část\n\n Nakládán
 í s odpady z pohledu administrativy (povolení\, souhlasy\, závazná sta
 noviska)\n Kontrola dodržování zákona z pohledu kontrolované osoby\n
  Dotazy a diskuze\n\nČASOVÝ HARMONOGRAM\n\n10:30 – 11:00 prezence ú
 častníků\n11:00 – 12:30 zahájení\, seminář 1. část\n12:30 – 1
 2:50 pauza\, občerstvení\n12:50 – 14:00 seminář 2. část\, dotazy\,
  diskuze\n\nPŘEDNÁŠEJÍCÍJUDr. Hana Dvořáková\, MBA\, ředitelka od
 boru výkonu státní správy II z Ministerstva životního prostředí. A
 bsolventka Právnické fakulty Univerzity Karlovy v Praze. Lektorskou čin
 nost vyvíjí zejména ve vzdělávacích institucích zaměřených na vz
 dělávání osob působících v obecní či krajské samosprávě a stá
 tní správě. Je zkušební komisařkou pro zvláštní část zkoušky o
 dborné způsobilosti pro výkon správní činnosti v hospodaření s odp
 ady a nakládání s obaly. CENA: 2500 Kč (vč. DPH) / 1700 Kč (vč. DPH
 ) pro členy Krajské hospodářské komory KHK\, OHK Liberec nebo SP ČRR
 EGISTRACE: Na setkání se prosím registrujte do 12. 9. 2023 ZDE\n
URL:https://www.spcr.cz/nakladani-s-odpady-novinky-v-legislative-sankce-0
DTSTART:20231005T110000
DTEND:20231005T140000
LOCATION:
END:VEVENT
END:VCALENDAR
