BEGIN:VCALENDAR
PRODID:-//eluceo/ical//2.0/EN
VERSION:2.0
CALSCALE:GREGORIAN
BEGIN:VEVENT
UID:896e3c75b7494540ad33e946ca17b7c5
DTSTAMP:20260423T145750Z
SUMMARY:Nakládaní s odpady\, novinky v legislativě\, sankce
DESCRIPTION:Název akce: Nakládaní s odpady\, novinky v legislativě\, sa
 nkce\nURL: https://www.spcr.cz/nakladani-s-odpady-novinky-v-legislative-sa
 nkce-1\nPopis: \n\nSvaz průmyslu a dopravy České republiky a Krajská h
 ospodářská komora Královéhradeckého kraje vás srdečně zvou na sem
 inář\nRÁMCOVÝ PROGRAM\n\n Prezence\, občerstvení\n Zahájení\n\n1
 . část\n\n Legislativa v oblasti nakládání s odpady\n Přechodná o
 bdobí a novinky od 1. 1. 2023\n Odpad\, vedlejší výrobek a ukončení
  odpadového režimu\n Základní povinnosti\, povinnosti původce a prov
 ozovatele zařízení\n Povinnosti v rámci jednotlivých způsobů nakl
 ádání s odpady\n Vybrané druhy odpadů a nakládání s nimi - nebezp
 ečné odpady\, komunální odpady\, atd.\n Průběžná evidence a ohla
 šovací povinnosti\n\n2. část\n\n Nakládání s odpady z pohledu admi
 nistrativy (povolení\, souhlasy\, závazná stanoviska)\n Kontrola dodr
 žování zákona z pohledu kontrolované osoby\n Dotazy a diskuze\n\nČA
 SOVÝ HARMONOGRAM10:30 – 11:00 prezence účastníků11:00 – 12:30 zah
 ájení\, seminář 1. část12:30 – 12:50 pauza\, občerstvení12:50 
 – 14:00 seminář 2. část\, dotazy\, diskuzePŘEDNÁŠEJÍCÍJUDr. Han
 a Dvořáková\, MBA\, ředitelka odboru výkonu státní správy II z Min
 isterstva životního prostředí. Absolventka Právnické fakulty Univerz
 ity Karlovy v Praze. Lektorskou činnost vyvíjí zejména ve vzdělávac
 ích institucích zaměřených na vzdělávání osob působících v obe
 cní či krajské samosprávě a státní správě. Je zkušební komisař
 kou pro zvláštní část zkoušky odborné způsobilosti pro výkon spr
 ávní činnosti v hospodaření s odpady a nakládání s obaly. CENA: 25
 00 Kč (vč. DPH) / 1700 Kč (vč. DPH) pro členy Krajské hospodářské
  komory KHK\, OHK Liberec nebo SP ČRREGISTRACE: Na setkání se prosím r
 egistrujte do 12. 9. 2023 ZDE\n
URL:https://www.spcr.cz/nakladani-s-odpady-novinky-v-legislative-sankce-1
DTSTART:20230914T110000
DTEND:20230914T140000
LOCATION:
END:VEVENT
END:VCALENDAR
