BEGIN:VCALENDAR
PRODID:-//eluceo/ical//2.0/EN
VERSION:2.0
CALSCALE:GREGORIAN
BEGIN:VEVENT
UID:0aa55362acecb2b670fa1e4a716dda21
DTSTAMP:20260423T150324Z
SUMMARY:Novelizace zákoníku práce
DESCRIPTION:Název akce: Novelizace zákoníku práce\nURL: https://www.spc
 r.cz/novelizace-zakoniku-prace\nPopis: \n\nSvaz průmyslu a dopravy Česk
 é republiky a Krajská hospodářská komora Královéhradeckého kraje v
 ás srdečně zvou na seminář.RÁMCOVÝ PROGRAM\n\nPrezence\, občerstve
 ní\nZahájení\nÚvodní shrnutí změn pracovněprávních předpisů\nS
 chválené znění transpoziční novelizace zákoníku práce\nZásadní 
 změny v dohodách o pracích konaných mimo pracovních poměr\nRozvrhov
 ání pracovní doby\, překážky v práci\, příplatky a dovolená u do
 hod\nOdměňování\, minimální a zaručená mzda\nZměny v agenturním 
 zaměstnávání\nZvláštní pracovní podmínky při péči o jiné osob
 y\nFlexibilní rozvrhování pracovní doby\nNastavení podmínek práce n
 a dálku a homeworkingu\nElektronické sjednávání smluv se zaměstnance
 m\nElektronické doručování písemností\nDalší legislativní novinky
  v pracovním právu\nŘešení modelových situací z praxe\nDalší aktu
 ální informace\, diskuze\, odpovědi na dotazy\n\nČASOVÝ HARMONOGRAM8:
 30 – 9:00 prezence účastníků9:00 – 11:00 zahájení\, seminář 1.
  část11:00 – 11:30 pauza\, občerstvení11:30 – 13:00 seminář 2. 
 část\, dotazy\, diskuzePŘEDNÁŠEJÍCÍProf. JUDr. Petr HŮRKA\, Ph.D.U
 niverzitní profesor\, lektor a konzultant na pracovní právo a právo so
 ciálního zabezpečení\, člen Legislativní rady vlády\, dříve půso
 bil jako náměstek pro legislativu a pracovněprávní vztahy\, řídil p
 ráce na klíčových novelizacích pracovněprávních předpisů\, včet
 ně poslední novely zákoníku práce.CENA:4500 Kč (bez DPH) / 3500 Kč 
 (bez DPH) pro členy Krajské hospodářské komory KHK\, OHK Liberec\, HK
  ČR nebo SP ČRREGISTRACE: Na setkání se prosím registrujte do 15. 10
 . 2023 ZDE\n
URL:https://www.spcr.cz/novelizace-zakoniku-prace
DTSTART:20231023T090000
DTEND:20231023T130000
LOCATION:
END:VEVENT
END:VCALENDAR
