BEGIN:VCALENDAR
PRODID:-//eluceo/ical//2.0/EN
VERSION:2.0
CALSCALE:GREGORIAN
BEGIN:VEVENT
UID:3283fde797e468550490934dfd04c33c
DTSTAMP:20260423T150254Z
SUMMARY:Novelizace v zákoníku práce
DESCRIPTION:Název akce: Novelizace v zákoníku práce\nURL: https://www.s
 pcr.cz/novelizace-v-zakoniku-prace\nPopis: \n\nSvaz průmyslu a dopravy Č
 R\, Okresní hospodářská komora Liberec\, Spolek pro rozvoj lidských z
 drojů Liberec vás srdečně zvou na seminář.\nRÁMCOVÝ PROGRAM\n\n P
 rezence\, občerstvení\n Zahájení\n Úvodní shrnutí změn pracovně
 právních předpisů\n Schválené znění transpoziční novelizace zá
 koníku práce\n Zásadní změny v dohodách o pracích konaných mimo p
 racovních poměr\n Rozvrhování pracovní doby\, překážky v práci\,
  příplatky a dovolená u dohod\n Odměňování\, minimální a zaruče
 ná mzda\n Změny v agenturním zaměstnávání\n Zvláštní pracovní
  podmínky při péči o jiné osoby\n Flexibilní rozvrhování pracovn
 í doby\n Nastavení podmínek práce na dálku a homeworkingu\n Elektro
 nické sjednávání smluv se zaměstnancem\n Elektronické doručování
  písemností\n Další legislativní novinky v pracovním právu\n Ře
 šení modelových situací z praxe\n Další aktuální informace\, disk
 uze\, odpovědi na dotazy\n\nČASOVÝ HARMONOGRAM 8:30 – 9:00 prezence 
 účastníků9:00 – 11:00 zahájení\, seminář 1. část11:00 – 11:3
 0 pauza\, občerstvení11:30 – 13:00 seminář 2. část\, dotazy\, disk
 uzePŘEDNÁŠEJÍCÍProf. JUDr. Petr HŮRKA\, Ph.D.Univerzitní profesor\,
  lektor a konzultant na pracovní právo a právo sociálního zabezpečen
 í\, člen Legislativní rady vlády\, dříve působil jako náměstek pr
 o legislativu a pracovněprávní vztahy\, řídil práce na klíčových 
 novelizacích pracovněprávních předpisů\, včetně poslední novely z
 ákoníku práce.CENA: 4500 Kč (bez DPH) / 3500 Kč (bez DPH) pro členy 
 Krajské hospodářské komory KHK\, OHK Liberec\, HK ČR nebo SP ČRREGIS
 TRACE: Na setkání se prosím registrujte do 11. 9. 2023 ZDE\n
URL:https://www.spcr.cz/novelizace-v-zakoniku-prace
DTSTART:20230913T090000
DTEND:20230913T130000
LOCATION:
END:VEVENT
END:VCALENDAR
