BEGIN:VCALENDAR
PRODID:-//eluceo/ical//2.0/EN
VERSION:2.0
CALSCALE:GREGORIAN
BEGIN:VEVENT
UID:cce395d659e6d764bfe7ebfd544c2fbb
DTSTAMP:20260423T173344Z
SUMMARY:Vietnam International Sourcing Expo 2023
DESCRIPTION:Název akce: Vietnam International Sourcing Expo 2023\nURL: htt
 ps://www.spcr.cz/vietnam-international-sourcing-expo-2023\nPopis: \n\nPod 
 odkazem zveřejňujeme pozvánku k účasti na Vietnam International Sourc
 ing Expo 2023\, která přišla z vietnamského velvyslanectví v Praze.\n
 https://www.spcr.cz/aktivity/proexportni-servis/informace-z-teritoria/1613
 8-vietnam-international-sourcing-expo-2023-13-15-september-2023\n
URL:https://www.spcr.cz/vietnam-international-sourcing-expo-2023
DTSTART:20230913T080000
DTEND:20230915T170000
LOCATION:
END:VEVENT
END:VCALENDAR
