BEGIN:VCALENDAR
PRODID:-//eluceo/ical//2.0/EN
VERSION:2.0
CALSCALE:GREGORIAN
BEGIN:VEVENT
UID:daf20411831f24ea889b71ff42019b70
DTSTAMP:20260423T145913Z
SUMMARY:Podnikatelská mise na Ukrajinu
DESCRIPTION:Název akce: Podnikatelská mise na Ukrajinu\nURL: https://www.
 spcr.cz/podnikatelska-mise-na-ukrajinu-0\nPopis: \n\nDovolujeme si Vás in
 formovat o spuštění registrací pro možnost účasti na připravovan
 é podnikatelské misi\, která ve dnech 8. až 12. července doprovodí d
 elegaci vládního zmocněnce pro rekonstrukci Ukrajiny Tomáše Kopečné
 ho při jeho cestě na Ukrajinu.\nHarmonogram cesty bude zahrnovat tři za
 stávky\, a to ve Lvově\, Kyjevě a Dnipru. V každém z těchto měst b
 ude uspořádáno business forum za účasti zástupců z veřejného sek
 toru a místního podnikatelského prostředí. Hlavními oblastmi zájmu 
 této cesty budou sektory zdravotnictví\, energetiky a dopravy.\nVzhlede
 m k délce i náplni programu prosíme\, abyste vzali na vědomí očeká
 vanou fyzickou náročnost mise. Zároveň s ohledem na bezpečnostní si
 tuaci na Ukrajině upozorňujeme\, že nemůžeme garantovat bezpečnost 
 účastníků mise\, cesta tak proběhne na vlastní nebezpečí každého
  účastníka.\nV případě zájmu o účast na misi Vás žádáme o vy
 plnění formuláře na tomto odkazu a také o zaslání vyplněné při
 hlášky. \nRegistrace bude otevřena do 19. června do 12:00 hod.\, pot
 é dojde k jejímu definitivnímu uzavření vzhledem k nutnému vyří
 zení patřičných rezervací a dalších organizačních záležitostí 
 cesty.\nV případě zájmu zúčastnit se mise do uvedeného termínu vyp
 lňte a zašlete online veškeré podklady (vč. informací o Vaší spole
 čnosti do prezentace). \nPreferována je účast pouze jednoho zástup
 ce za každý přihlášený subjekt. Kapacita je omezená a Ministerstvo 
 průmyslu a obchodu ČR\, Svaz průmyslu a dopravy ČR a Hospodářská ko
 mora ČR si vyhrazují právo na výběr přihlášených členů mise dle
  volných kapacit či preferencí a zájmu ukrajinské strany.\nMěsto Dni
 pro\, které a své cestě navštívíme čelilo v nedávné době někol
 ika masivním ostřelováním\, jeho představitelé nás poprosili o pomo
 c\, byla proto vypsána sbírka na potřeby pro záchranáře. V případ
 ě zájmu můžete přispět zde: https://www.donio.cz/vybaveni-pro-zachr
 anare-v-dnipru\nV případě jakýchkoli nejasností či dotazů se na n
 ás neváhejte obrátit\, a to na e-mailové adrese mnatafalusi@spcr.cz 
 nebo talafus@komora.cz.\n
URL:https://www.spcr.cz/podnikatelska-mise-na-ukrajinu-0
DTSTART:20230708T080000
DTEND:20230714T230000
LOCATION:
END:VEVENT
END:VCALENDAR
