BEGIN:VCALENDAR
PRODID:-//eluceo/ical//2.0/EN
VERSION:2.0
CALSCALE:GREGORIAN
BEGIN:VEVENT
UID:b65b2f59efdbd5acdec66a792179333e
DTSTAMP:20260423T172412Z
SUMMARY:Prodej na globalní trhy
DESCRIPTION:Název akce: Prodej na globalní trhy\nURL: https://www.spcr.cz
 /prodej-na-globalni-trhy\nPopis: \n\nKonference: Expanze do Severní Ameri
 ky přes Amazon \nZajímáte se o export do Severní Ameriky?\nNa konferen
 ci se dozvíte užitečné informace o expanzi na globální trhy přes Am
 azon a možnostech e-commerce v USA\, Mexiku a Kanadě.\nVice informací\,
  včetně programu zde: https://www.czechtrade.cz/kalendar-akci/archiv-akc
 i/hybridni-konference_-expanze-do-severni-ameriky-pres-amazon-_-virtualni-
 ucast\n
URL:https://www.spcr.cz/prodej-na-globalni-trhy
DTSTART:20230620T090000
DTEND:20230620T123000
LOCATION:
END:VEVENT
END:VCALENDAR
