BEGIN:VCALENDAR
PRODID:-//eluceo/ical//2.0/EN
VERSION:2.0
CALSCALE:GREGORIAN
BEGIN:VEVENT
UID:e22b641571650cfb1938b7c4ff2a3692
DTSTAMP:20260423T125941Z
SUMMARY:Manažerský přístup k práci umělé inteligence
DESCRIPTION:Název akce: Manažerský přístup k práci umělé inteligenc
 e\nURL: https://www.spcr.cz/manazersky-pristup-k-praci-umele-inteligence\n
 Popis: \n\nSvaz průmyslu a dopravy ČR si Vás v rámci projektu „Podpo
 ra národního\, odvětvového a regionálního sociálního dialogu v ČR
 “ dovoluje pozvat ke kulatému stolu Manažerský přístup k práci um
 ělé inteligence. \nGenerativní nástroje umělé inteligence vstupují
  do širokého povědomí napříč odvětvími. Cílem tohoto kulatého s
 tolu je důsledně probrat možné výhody i negativní dopady jejich zam
 ěstnavatelského využívání a aspekty jejich zakomponování organiza
 ční struktury firem. Diskuze se bude také týkat dopadů na sociální 
 dialog – umělá inteligence (AI) slibuje nahrazování lidské práce\,
  těžko jí ale může univerzálně nahradit. Citlivost tématu dále ko
 mplikuje současná velmi nízká nezaměstnanost\, zaměstnavatelé mají
  silnou motivaci nepropouštět\, v případě uvolnění lidí díky AI t
 ak musí hledat nové způsoby jejich uplatnění.\nČASOVÝ HARMONOGRAM\n
 08:30 – 09:00  Registrace účastníků\n09:00 – 09:15  Úvodní slo
 vo — Milena Jabůrková\, viceprezidentka SP ČR\n09:15 – 09:45  Orga
 nizační nástroje a doporučení pro implementaci práce umělé intelig
 ence (AI). Manažerská identifikace AI dotčených pracovních procesů\,
  zodpovědná timeline odpovídající restrukturalizace a její pracovně
 právní aspekty. Antonín Kadlec\, Partner\, PKF APOGEO Group\n09:45 – 
 10:15  Využívání a rizika generativních nástrojů AI pro vedení fi
 rem. Kategorizace nástrojů AI a oblasti jejich využívání (firemní v
 stupy a výstupy\, nástroj rozhodování atd.)\, vnější a vnitřní ri
 zika jejich nasazení\, výhledové trendy. Dušan Vystrčil\, Solution Ar
 chitect\, Datasentics\n10:15 – 10:30  Přestávka\n10:30 – 12:00  Di
 skuze o nasazení nástrojů AI do (českých) firem s cílem zvýšení k
 onkurenceschopnosti\n \nGenerativní nástroje umělé inteligence vstupu
 jí do širokého povědomí napříč odvětvími. Cílem tohoto kulatéh
 o stolu je důsledně probrat možné výhody i negativní dopady jejich z
 aměstnavatelského využívání a aspekty jejich zakomponování organiz
 ační struktury firem. Diskuze se bude také týkat dopadů na sociální
  dialog – umělá inteligence (AI) slibuje nahrazování lidské práce\
 , těžko jí ale může univerzálně nahradit. Citlivost tématu dále k
 omplikuje současná velmi nízká nezaměstnanost\, zaměstnavatelé maj
 í silnou motivaci nepropouštět\, v případě uvolnění lidí díky AI
  tak musí hledat nové způsoby jejich uplatnění.\nNa setkání se pros
 ím zaregistrujte pod tímto odkazem nejpozději do 15. 6. 2023 12:00.\n 
 \nModerátor a organizátor\nPetr Teplý — regionální manažer SP ČR
 pteply@spcr.cz+420 603 459 521\n
URL:https://www.spcr.cz/manazersky-pristup-k-praci-umele-inteligence
DTSTART:20230620T090000
DTEND:20230620T120000
LOCATION:
END:VEVENT
END:VCALENDAR
