BEGIN:VCALENDAR
PRODID:-//eluceo/ical//2.0/EN
VERSION:2.0
CALSCALE:GREGORIAN
BEGIN:VEVENT
UID:dbfd5b80c5d35f49bb867cb27e033b9a
DTSTAMP:20260423T150323Z
SUMMARY:China International Supply Chain Expo (CISCE)
DESCRIPTION:Název akce: China International Supply Chain Expo (CISCE)\nURL
 : https://www.spcr.cz/china-international-supply-chain-expo-cisce\nPopis: 
 \n\nWith the theme of Connecting the World for a Shared Future\, the inaug
 ural CISCE provides countries around the world with new opportunities to e
 xpand economic and trade partnerships with China and a new platform to sha
 re business opportunities with one another.The Chinese Embassy and China C
 ouncil for the Promotion of International Trade (CCPIT) cordially invite y
 our organization to encourage memeber companies to participate in the firs
 t CISCE\, showcase your products or services\, communicate and collaborate
  with leading global enterprises\, and create new opportunities.\nContact 
 person in the Embasay:Name: Kong Yafei e-mail: cz@mofcom.gov.cnTel: 00420 
 233 028 86\n
URL:https://www.spcr.cz/china-international-supply-chain-expo-cisce
DTSTART:20231128T080000
DTEND:20231202T170000
LOCATION:
END:VEVENT
END:VCALENDAR
