BEGIN:VCALENDAR
PRODID:-//eluceo/ical//2.0/EN
VERSION:2.0
CALSCALE:GREGORIAN
BEGIN:VEVENT
UID:c3811fab6621a7028ecddeba365a8561
DTSTAMP:20260423T145744Z
SUMMARY:The EU Single Market as a driver for European Competitiveness
DESCRIPTION:Název akce: The EU Single Market as a driver for European Comp
 etitiveness\nURL: https://www.spcr.cz/eu-single-market-driver-european-com
 petitiveness\nPopis: \n\nDovolujeme si Vás pozvat na konferenci „The E
 U Single Market as a driver for European Competitiveness“ („Vnitřní 
 trh EU jako hnací síla evropské konkurenceschopnosti“)\, kterou poř
 ádá švédské předsednictví Rady EU ve spolupráci s Generálním se
 kretariátem Rady ve čtvrtek 22. června od 14:00 do 16:00 hod. v onli
 ne formátu.\nPří příležitosti letošního 30. výročí existence vn
 itřního trhu EU se na jednom fóru setkají unijní představitelé\, z
 ástupci členských států\, průmyslu\, občanské společnosti a dalš
 í důležití stakeholdeři\, aby společně diskutovali o možnostech da
 lšího posílení a prohloubení vnitřního trhu zboží a služeb s c
 ílem zajistit dlouhodobou konkurenceschopnost uvnitř i mimo EU.\nCelá k
 onference proběhne v anglickém jazyce\, další informace o konferenci\,
  zejm. program\, témata a jména řečníků naleznete společně s ofic
 iální pozvánkou v přiložených dokumentech.\nV případě Vašeho z
 ájmu o účast na konferenci se prosím zaregistrujte prostřednictvím 
 tohoto odkazu (registrace potrvá do 19. 6. 2023)\, před konáním konfe
 rence obdržíte na Vaši e-mailovou adresu odkaz pro připojení.\n
URL:https://www.spcr.cz/eu-single-market-driver-european-competitiveness
DTSTART:20230622T140000
DTEND:20230622T160000
LOCATION:
END:VEVENT
END:VCALENDAR
