BEGIN:VCALENDAR
PRODID:-//eluceo/ical//2.0/EN
VERSION:2.0
CALSCALE:GREGORIAN
BEGIN:VEVENT
UID:becb9d681197a7c6186016eec67407fa
DTSTAMP:20260423T150323Z
SUMMARY:Kybernetická bezpečnost: posílení kapacit EU
DESCRIPTION:Název akce: Kybernetická bezpečnost: posílení kapacit EU\n
 URL: https://www.spcr.cz/kyberneticka-bezpecnost-posileni-kapacit-eu\nPopi
 s: \n\nZveme vás na debatu „Kybernetická bezpečnost: posílení kapac
 it EU“ organizovanou CEBRE – Česká podnikatelská reprezentace při 
 EU se sídlem v Bruselu ve spolupráci se Zastoupením Evropské komise v 
 České republice\, která se uskuteční se v úterý 20. června od 16:0
 0 do 18:00 v Evropském domě v Praze (Jungmannova 24\, Praha 1).Cílem de
 baty je diskutovat nedávno představený balíček Evropskou komisí\, t
 ýkající se legislativy pro posílení kybernetické bezpečnosti\, jeho
 ž součástí je i Akt o kybernetické solidaritě. Nařízení reaguje n
 a nedostatečné kyberneticko-bezpečnostní kapacity EU\, má za cíl zef
 ektivnit odhalování hrozeb a incidentů\, posílit stávající mechanis
 mus spolupráce\, rozšířit povědomí o této problematice a zlepšit p
 řipravenost kritických subjektů a podniků v celé EU.V rámci debaty b
 udeme společně hledat odpovědi na tyto otázky:\n\nCo nového přináš
 í Akt v oblasti kybernetické bezpečnosti a jak se doplňuje s dalšími
  evropskými opatřeními?\nCo znamená nová kybernetická legislativa pr
 o české firmy? Jak může přispět k jejich prosperitě a bezpečnosti?
  Jaké nové příležitosti a povinnosti z legislativy pro firmy vyplynou
 ?\nJak navržená legislativa vyhovuje firmám ? Co by případně změnil
 y a v čem vidí možné výzvy při jejím provádění v praxi?\n\nDisku
 tovat s Vámi budou:\n\nEvžen Tošenovský\, poslanec\, Evropský parlame
 nt\nJan Míča\, digital leader\, Zastoupení Evropské komise v ČR\nLuk
 áš Kintr\, ředitel\, Národní úřad pro kybernetickou a informační 
 bezpečnost (NÚKIB)\nMartina Chitu\, zástupkyně ředitele sekce kyberne
 tické bezpečnosti\, Deloitte\nAneta Zachová\, moderátorka\, EURACTIV.c
 z\n\nDebata je v českém jazyce\, zdarma. Registrovat se můžete ZDE.\n
URL:https://www.spcr.cz/kyberneticka-bezpecnost-posileni-kapacit-eu
DTSTART:20230620T160000
DTEND:20230620T180000
LOCATION:
END:VEVENT
END:VCALENDAR
