BEGIN:VCALENDAR
PRODID:-//eluceo/ical//2.0/EN
VERSION:2.0
CALSCALE:GREGORIAN
BEGIN:VEVENT
UID:694504ef2169e76435df5dc2aceb29ef
DTSTAMP:20260423T192922Z
SUMMARY:Czech-UNDP Partnership for SDGs - seminář o příležitostech pod
 pory projektů
DESCRIPTION:Název akce: Czech-UNDP Partnership for SDGs - seminář o př
 íležitostech podpory projektů\nURL: https://www.spcr.cz/czech-undp-part
 nership-sdgs-seminar-o-prilezitostech-podpory-projektu\nPopis: \n\nJménem
  odboru rozvojové spolupráce a humanitární pomoci MZV a Regionálního
  centra UNDP v Istanbulu si Vás dovolujeme pozvat na seminář k příle
 žitostem podpory projektových záměrů v prioritních zemích rozvojov
 é spolupráce ČR v rámci Czech-UNDP Partnership for SDGs (CUP).   Akce 
 se uskuteční 13.6.\, 14 - 16hod. v Černínském paláci a online. Více
  informací v přiložené pozvánce\, kde nalezenete i postup pro registr
 aci.\n \n
URL:https://www.spcr.cz/czech-undp-partnership-sdgs-seminar-o-prilezitostec
 h-podpory-projektu
DTSTART:20230613T140000
DTEND:20230613T160000
LOCATION:
END:VEVENT
END:VCALENDAR
