BEGIN:VCALENDAR
PRODID:-//eluceo/ical//2.0/EN
VERSION:2.0
CALSCALE:GREGORIAN
BEGIN:VEVENT
UID:be381465d20f9d9c1cb41c7fb47baa8b
DTSTAMP:20260423T213028Z
SUMMARY:Pozvánka - SEMINAR "The European Union Global Gateway Strategy: en
 ergy"
DESCRIPTION:Název akce: Pozvánka - SEMINAR "The European Union Global Gat
 eway Strategy: energy"\nURL: https://www.spcr.cz/pozvanka-seminar-european
 -union-global-gateway-strategy-energy\nPopis: \n\nDobrý den\,  zveřejňu
 jeme informaci o sektorovém semináři k zapojení do čerpání z vněj
 ších nástrojů EU k tématu  "EU Global Gateaway: Energy"\, který se 
 bude konat dne 28. června v Bruselu.  Seminář je pořádaný Stálým z
 astoupením a obchodní komorou Německa a Španělska při EU a vystoupí
  zde řečníci z Evropské komise\, EIB i EBRD s cílem poskytnout prakti
 cké informace o tom\, jak se mohou firmy zapojit do strategie Global Gate
 away a využít tak možnosti čerpání finančních prostředků z nást
 rojů EU. Odpolední část bude věnována B2B setkáním a networkingu m
 ezi firmami.  Bližší informace  včetně předběžného programu jsou
  k dispozici v příloze.\n
URL:https://www.spcr.cz/pozvanka-seminar-european-union-global-gateway-stra
 tegy-energy
DTSTART:20230628T090000
DTEND:20230628T173000
LOCATION:
END:VEVENT
END:VCALENDAR
