BEGIN:VCALENDAR
PRODID:-//eluceo/ical//2.0/EN
VERSION:2.0
CALSCALE:GREGORIAN
BEGIN:VEVENT
UID:0394ab2f21afa21e9c64a2f15a77daa6
DTSTAMP:20260423T150052Z
SUMMARY:Bezpečnost cestování
DESCRIPTION:Název akce: Bezpečnost cestování\nURL: https://www.spcr.cz/
 bezpecnost-cestovani-0\nPopis: \n\nSvaz průmyslu a dopravy České republ
 iky a Krajská hospodářská komora Královéhradeckého kraje vás srde
 čně zvou na seminář o bezpečnosti cestování – Praktické rady pr
 o firemní zaměstnance i členy rodiny\, kteří se chystají na cesty.\n
 CÍLOVÁ SKUPINA:\n\nOsoby cestující do zahraničí (pracovně/soukromě
 )\,\nOrganizace a firmy intenzivně spolupracující se zahraničními sub
 jekty\,\nBezpečnostní\, obchodní\, výkonný a operativní management.\
 n\n CO SE NAUČÍTE – 2 OBSAHOVÉ LINIE:\n\nJak snížit rizika souvise
 jící s (mezinárodním) cestováním\,\nNastavení firemních procesů:
 \n\nSoubor praktických a procedurálních opatření ke zvýšení bezpe
 čnosti personálu\,\nVyjasnění odpovědnosti firmy v této oblasti\,\n
 Redukci dopadů v případě incidentu.\n\n\n\n TEMATICKÝ OBSAH:\n\nZv
 ýšení povědomí o rizicích spojených s cestováním do zahraničí\
 nNežádoucí cizí pozornost – kdo za ní stojí\, jaké cíle sleduje.
  Kdo je za nežádoucí pozorností vůči nám\, jaké činnosti provád
 í a s jakým cílem.\n\nTechnologie: Mobilní zařízení – dobrý slu
 ha\, ale nebezpečný zrádce\,\nNová rizika odposlechů a sledování\,\
 nNásilné akce: krádeže\, kompromitace\, nátlak\, vydírání\, úplat
 ky\,\nFiremní špionáž\, osobní údaje a soukromí\,\nÚrazy a úmrtí
  v zahraničí.\n\n\n\nČASOVÝ HARMONOGRAM\n  9:30 – 10:00 prezence 
 účastníků\n10:00 – 11:30 zahájení\, seminář 1. část\n11:30 –
  12:00 pauza\, občerstvení\n12:00 – 13:30 seminář 2. část\,\n13:30
  – 13:50 pauza\, občerstvení\n13:50 – 15:30 seminář 3. část\, do
 tazy\, diskuze (konec dle délky diskuze)\n \nPŘEDNÁŠEJÍCÍ\nPředná
 šející: Ing. Oldřich Novák\n\nRisk Manager a Travel Security Advisor 
 pro nadnárodní společnosti a náročnou klientelu.\n28 let v aktivní v
 ojenské službě\,\nOd roku 2001 spojen s protiteroristickými aktivitami
 \,\nTříleté zařazení v NATO\,\n5 misí v Afghánistánu v letech 2002
 –2014\,\n\n\nOceněn:\n\nZáslužný kříž - Ministerstvo Obrany ČR 2
 019\,\nThe Commendation Medal - US Department of Defense\, 2009.\n\n\n\nCe
 na semináře je 3.600 Kč vč. DPH. Pro členy KHK\, OHK nebo SP ČR je c
 ena 2.800 Kč vč. DPH.\nRegistrujte se pod tímto odkazem do 30. 5. 2023.
 \n
URL:https://www.spcr.cz/bezpecnost-cestovani-0
DTSTART:20230601T100000
DTEND:20230601T170000
LOCATION:
END:VEVENT
END:VCALENDAR
