BEGIN:VCALENDAR
PRODID:-//eluceo/ical//2.0/EN
VERSION:2.0
CALSCALE:GREGORIAN
BEGIN:VEVENT
UID:8017a93672150389676625add718c6d9
DTSTAMP:20260423T130228Z
SUMMARY:Online kulatý stůl Úspory energie v nástrojích podpory
DESCRIPTION:Název akce: Online kulatý stůl Úspory energie v nástrojíc
 h podpory\nURL: https://www.spcr.cz/online-kulaty-stul-uspory-energie-v-na
 strojich-podpory\nPopis: \n\nDovolujeme si vás pozvat ke kulatému stolu 
 ohledně nástrojů podpory v oblasti úspor energie\, který proběhne 
 ve středu dne 22. 6. 2023 od 13:00 online na platformě ZOOM. \nPřítomn
 í zástupci Ministerstva průmyslu a obchodu a Národní rozvojové banky
  představí dostupné programy a jejich podmínky a následně budeme moc
 i diskutovat nad problémy z praxe\, se kterými se při svých projektec
 h setkáváte a které mohou využití dostupných nástrojů omezovat. P
 ůjde tedy o ideální příležitost předat k dostupným programům pod
 pory zpětnou vazbu\, kterou SP ČR bude moci uplatnit v připomínkách 
 při přípravě nadcházejících výzev.\nPředběžný program:\n\nZás
 tupce SHP SP ČR Úvod\, Zelená transformace\, cíle ČR a nástroje pln
 ění se zaměřením na úspory energie\n Ondřej Tomšej\, vedoucí odd
 ělení implementace PO 3 a ZŘO\, MPO Dostupná podpora pro podniky v OP 
 TAK v oblasti přechodu na nízkouhlíkovou ekonomiku – výzva Úspory 
 energie (aktuální stav výzvy\, podmínky + další plánované výzvy)\
 n Ing. Čestmír Hrdinka\, koordinátor programu ELENA Národní rozvojov
 é banky FN Nové úspory energie – podmínky a představení nového fi
 nančního nástroje\, + program ENERG (pro Prahu)\nDiskuze – zpětná v
 azba k programům\n\nAkce proběhne online.\nPro účast prosíme o regis
 traci pod tímto odkazem nejpozději do středy 21. 6. 2023\n
URL:https://www.spcr.cz/online-kulaty-stul-uspory-energie-v-nastrojich-podp
 ory
DTSTART:20230622T130000
DTEND:20230622T150000
LOCATION:
END:VEVENT
END:VCALENDAR
