BEGIN:VCALENDAR
PRODID:-//eluceo/ical//2.0/EN
VERSION:2.0
CALSCALE:GREGORIAN
BEGIN:VEVENT
UID:7c9f1d1d4ffd54ca5fb3568aec13675a
DTSTAMP:20260423T150144Z
SUMMARY:Úspory energie v nástrojích podpory
DESCRIPTION:Název akce: Úspory energie v nástrojích podpory\nURL: http
 s://www.spcr.cz/uspory-energie-v-nastrojich-podpory\nPopis: \n\nDovolujeme
  si vás pozvat ke kulatému stolu ohledně nástrojů podpory v oblasti 
 úspor energie\, který proběhne ve středu dne 28. 6. 2023 od 13 hodin 
 na adrese: Dům techniky Pardubice spol. s. r. o.\, nám. Republiky 2686\,
  530 02 Pardubice I\nPřítomní zástupci Ministerstva průmyslu a obchod
 u a Národní rozvojové banky představí dostupné programy a jejich pod
 mínky a následně budeme moci diskutovat nad problémy z praxe\, se kte
 rými se při svých projektech setkáváte a které mohou využití dostu
 pných nástrojů omezovat. Půjde tedy o ideální příležitost předat
  k dostupným programům podpory zpětnou vazbu\, kterou SP ČR bude moci
  uplatnit v připomínkách při přípravě nadcházejících výzev.\nP
 ředběžný program:\n\nZástupce SHP SP ČR Úvod\, Zelená transformace
 \, cíle ČR a nástroje plnění se zaměřením na úspory energie\n Ond
 řej Tomšej\, vedoucí oddělení implementace PO 3 a ZŘO\, MPO Dostupn
 á podpora pro podniky v OP TAK v oblasti přechodu na nízkouhlíkovou e
 konomiku – výzva Úspory energie (aktuální stav výzvy\, podmínky + 
 další plánované výzvy)\n Eva Baková\, specialistka energetiky progra
 mu ELENA Národní rozvojové banky FN Nové úspory energie – podmínky
  a představení nového finančního nástroje\, + program ENERG (pro Pra
 hu)\nDiskuze – zpětná vazba k programům\n\nSvou účast na akci pros
 ím zaregistrujte nejpozději do 21. 6. 2023.\n
URL:https://www.spcr.cz/uspory-energie-v-nastrojich-podpory
DTSTART:20230628T130000
DTEND:20230628T150000
LOCATION:
END:VEVENT
END:VCALENDAR
