BEGIN:VCALENDAR
PRODID:-//eluceo/ical//2.0/EN
VERSION:2.0
CALSCALE:GREGORIAN
BEGIN:VEVENT
UID:c29e8ac7de519c16fea3d85d0fd53b13
DTSTAMP:20260423T125644Z
SUMMARY:Indie – příležitosti a výzvy indického trhu 
DESCRIPTION:Název akce: Indie – příležitosti a výzvy indického trhu
  \nURL: https://www.spcr.cz/indie-prilezitosti-vyzvy-indickeho-trhu\nPopis
 : \n\nDovolujeme si Vás pozvat na podnikatelský hybridní seminář zam
 ěřený na aktuální příležitosti a výzvy indického trhu. Indie je 
 v současnosti nejlidnatější země s velmi početnou střední tříd
 ou (odhady mluví až o 400 mil.)\, která zajišťuje vysokou koupěschop
 nost indického trhu. Příležitosti přinášejí rovněž aktuální pr
 ogramy indické vlády zaměřené na zlepšování ochrany životního pr
 ostředí\, industrializaci země\, budování moderní dopravní infrastr
 uktury\, digitalizaci veškerých systémů či modernizaci armády. Přip
 ravovaný seminář má za cíl seznámit českou podnikatelskou veřejnos
 t se současnou situací na indickém trhu a s příležitostmi\, které 
 tento trh nabízí.\nPřipravovaný program\n14:00 – 14:05 přivítání
  a úvodní slovo přednesené ředitelem Odboru mimoevropských zemí R. 
 Hlavatým14:05 – 14:10 zdravice přednesená mimořádnou a zplnomocněn
 ou velvyslankyní ČR v Indii\, paní E. Žigovou14:10 – 14:15 zdravice
  přednesená mimořádným a zplnomocněným velvyslancem Indie v ČR\, 
 panem H. H. Kotalwarem (tbc)14:15 – 14:25 vystoupení představitele DPI
 IT (Department for Promotion of Industry and Internal Trade)14:25 – 14:4
 5 prezentace agentury Invest India14:45 – 15:05 společná prezentace za
 hraničních kanceláří agentury CzechTrade v Mumbaji    a v Bangal
 ore15:05 – 15:20 vystoupení zástupce společnosti DAKO-CZ – zkušeno
 st z působení na indickém trhu15:20 – 15:45 diskuse\, otázky a odpo
 vědi15:45 – 15:50 ukončení semináře15:50 – 16:30 individuální k
 onzultace agentury Invest India s českými firmami\nS ohledem na přít
 omnost indických hostů bude jednání probíhat v angličtině a akce j
 e bezplatná. Zájem o účast\, prosím\, komunikujte panu Ing. J. Vrbens
 kému na e-mail vrbensky@mpo.cz a sdělte\, zda se zúčastníte osobně n
 ebo on-line formou.\nNeváhejte využít příležitost a otevřete si dve
 ře k cestě na nový trh!\n
URL:https://www.spcr.cz/indie-prilezitosti-vyzvy-indickeho-trhu
DTSTART:20230621T133000
DTEND:20230621T170000
LOCATION:
END:VEVENT
END:VCALENDAR
